BEGIN:VCALENDAR
VERSION:2.0
PRODID:-//Silicon Valley Engineering Council - ECPv6.15.20//NONSGML v1.0//EN
CALSCALE:GREGORIAN
METHOD:PUBLISH
X-WR-CALNAME:Silicon Valley Engineering Council
X-ORIGINAL-URL:https://svec.org
X-WR-CALDESC:Events for Silicon Valley Engineering Council
REFRESH-INTERVAL;VALUE=DURATION:PT1H
X-Robots-Tag:noindex
X-PUBLISHED-TTL:PT1H
BEGIN:VTIMEZONE
TZID:America/Los_Angeles
BEGIN:DAYLIGHT
TZOFFSETFROM:-0800
TZOFFSETTO:-0700
TZNAME:PDT
DTSTART:20240310T100000
END:DAYLIGHT
BEGIN:STANDARD
TZOFFSETFROM:-0700
TZOFFSETTO:-0800
TZNAME:PST
DTSTART:20241103T090000
END:STANDARD
BEGIN:DAYLIGHT
TZOFFSETFROM:-0800
TZOFFSETTO:-0700
TZNAME:PDT
DTSTART:20250309T100000
END:DAYLIGHT
BEGIN:STANDARD
TZOFFSETFROM:-0700
TZOFFSETTO:-0800
TZNAME:PST
DTSTART:20251102T090000
END:STANDARD
BEGIN:DAYLIGHT
TZOFFSETFROM:-0800
TZOFFSETTO:-0700
TZNAME:PDT
DTSTART:20260308T100000
END:DAYLIGHT
BEGIN:STANDARD
TZOFFSETFROM:-0700
TZOFFSETTO:-0800
TZNAME:PST
DTSTART:20261101T090000
END:STANDARD
END:VTIMEZONE
BEGIN:VEVENT
DTSTART;TZID=America/Los_Angeles:20250219T080000
DTEND;TZID=America/Los_Angeles:20250221T170000
DTSTAMP:20260422T024108
CREATED:20250122T060916Z
LAST-MODIFIED:20250122T060916Z
UID:64370-1739952000-1740157200@svec.org
SUMMARY:Eighth Annual Symposium on Heterogeneous Integration Roadmap and Annual Meeting
DESCRIPTION:Future Vision for Heterogeneous Integration from Global Perspectives\, 3 days\, keynote talks\, working groups …\nRegistration is $140 ($115 for IEEE members). PayPal is the credit card payments processor; please do not use your Paypal account during the payment process here.\nWhen you get to the Visitor Parking area\, staff will guide you to available section\, and to the South Tower to check in and get your badge.\nSpeaker(s): \, \, \,\nAgenda:\nCheck (https://eps.ieee.org/technology/heterogeneous-integration-roadmap/annual-hir-conference.html) FOR LATEST UPDATES and speaker bios.\nDay 1 – Wednesday February 19\, 2025\nForum on AI & Energy Efficiency and Advanced Packaging Metrology\n9:00 am – 10:30 am Data Center AI & Energy Efficiency Forum Srilatha Manne (AMD)\, Arman Shehabi(LBL)\, Moderator: John Shalf\n10:30 am – 10:40 am coffee & tea break\n10:40 am – 12:10 pm Adv Packaging Metrology: NIST Metrology Team Paul Hale & Antara Nandi\, Moderator: Bill Chen\n12:10 pm – 1:10 pm Lunch\n1:10 pm – 1:30 pm Welcome & Agenda Review\n1:30 pm – 2:15 pm Ramune Nagisetty (NATCAST )\n2:15 pm – 2:50 pm George Orji (NIST) Keynote\n2:50 pm – 3:25 pm Henning Braunisch (SMART USA)\n3:25 pm – 4:00 pm Christopher Bailey – ASU Initiatives 4:00 pm – 4:35 pm Raj Jammy (IMEC USA)\n4:35 pm – 5:30 pm Wine Tasting Reception\nDay 2 – Thursday February 20\, 2025\n9:00 am – 9:05 am Welcome\n9:05 am – 9:30 am HIR Vision\n9:30 am – 10:05 am Dae-Woo Kim (Samsung Electronics\, South Korea)\n10:05 am – 10:40 am Madhavan Swaminathan (PSU) 10:40 am – 10:50 am Coffee & Tea Break\n10:50 am – 11:25 am Albert Heuberger (Fraunhofer Microelectronics Group)\n11:25 am – 12:00 pm Jimmy Lu (ITRI ERSO Taiwan)\n12:00 pm – 1:00 pm Lunch\n1:00 pm – 1:10 pm Contribution Recognition – Plaque Presentation\n1:10 pm – 3:00 pm TWG Collaboration Meeting Team 1\n3:00 pm – 3:05 pm Coffee & Tea Break\n3:05 pm – 5:00 pm TWG Collaboration Meeting Team 2\n5:00 pm – 6:00 pm Wine Tasting Reception\nDay 3 – Friday February 21\, 2025\n9:00 am – 9:10 am Welcome and Agenda Review\, Hualiang Shi\, EPS SCV Chapter Chair\n9:10 am – 9:45 am Prith Banerjee (ANSYS)\n9:45 am – 10:20 am TBD\n10:20 am – 10:30 am Coffee Break\n10:30 am – 11:05 am Srinivas Vempati (Institute of Microelectronics -IME\, Singapore)\n11:05 am – 11:40 am Subramanian Iyer (UCLA) – "AePeX America – Implementing Strategic Directions for the US Electronics Packaging Industry"\n11:40 am – 12:40 am Lunch\n12:40 pm – 2:30 pm TWG Collaboration Meeting Team 3\n2:30 pm – 2:40 pm Coffee & Tea Break\n2:40 pm – 4:30 pm TWG Collaboration Meeting Team4\n4:30 pm – 4:45 pm Conference Wrap up\nSamsung Electronics Campus\, 3655 N First Street\, San Jose\, California\, United States\, 95134
URL:https://svec.org/event/eighth-annual-symposium-on-heterogeneous-integration-roadmap-and-annual-meeting/
LOCATION:Samsung Electronics Campus\, 3655 N First Street\, San Jose\, California\, United States\, 95134
END:VEVENT
BEGIN:VEVENT
DTSTART;TZID=America/Los_Angeles:20250219T180000
DTEND;TZID=America/Los_Angeles:20250219T200000
DTSTAMP:20260422T024108
CREATED:20250122T060917Z
LAST-MODIFIED:20250122T060917Z
UID:64372-1739988000-1739995200@svec.org
SUMMARY:From Lab to Startup: Navigating the Journey from Academia to Entrepreneurship
DESCRIPTION:Transitioning from academia to entrepreneurship presents a unique set of challenges and opportunities. This presentation chronicles my journey from earning a Ph.D. in Electrical Engineering at the Georgia Institute of Technology to co-founding Falcomm\, Inc.\, a venture-backed fabless semiconductor startup specializing in ultra-efficient power amplifiers for 5G and beyond. Drawing on experiences from academic research in zero-power RF/mm-wave signal processing and novel power amplifier designs\, I discuss how the foundational skills and insights gained in academia shaped my approach to solving real-world problems.\nThe presentation highlights the pivotal moments in this transition\, including identifying a market need\, securing venture capital funding\, navigating team dynamics\, and establishing partnerships with industry leaders like GlobalFoundries. I also share lessons learned about bridging the gap between theoretical innovation and practical implementation\, as well as the mindset shifts required to thrive as both a researcher and a CEO.\nThis talk aims to inspire academics and aspiring entrepreneurs to recognize the transferable skills inherent in their work\, embrace calculated risks\, and leverage their expertise to make a meaningful impact in industry. It also emphasizes the importance of persistence\, adaptability\,\nand collaboration in the pursuit of building a startup from the ground up.\nSpeaker(s): Edgar\,\nRoom: 4021\, Bldg: Sobrato Campus for Discovery and Innovation\, Santa Clara University\, 500 El Camino Real\, Santa Clara\, California\, United States\, 95053
URL:https://svec.org/event/from-lab-to-startup-navigating-the-journey-from-academia-to-entrepreneurship/
LOCATION:Room: 4021\, Bldg: Sobrato Campus for Discovery and Innovation\, Santa Clara University\, 500 El Camino Real\, Santa Clara\, California\, United States\, 95053
END:VEVENT
END:VCALENDAR