BEGIN:VCALENDAR
VERSION:2.0
PRODID:-//Silicon Valley Engineering Council - ECPv6.15.20//NONSGML v1.0//EN
CALSCALE:GREGORIAN
METHOD:PUBLISH
X-ORIGINAL-URL:https://svec.org
X-WR-CALDESC:Events for Silicon Valley Engineering Council
REFRESH-INTERVAL;VALUE=DURATION:PT1H
X-Robots-Tag:noindex
X-PUBLISHED-TTL:PT1H
BEGIN:VTIMEZONE
TZID:UTC
BEGIN:STANDARD
TZOFFSETFROM:+0000
TZOFFSETTO:+0000
TZNAME:UTC
DTSTART:20240101T000000
END:STANDARD
END:VTIMEZONE
BEGIN:VTIMEZONE
TZID:America/Los_Angeles
BEGIN:DAYLIGHT
TZOFFSETFROM:-0800
TZOFFSETTO:-0700
TZNAME:PDT
DTSTART:20240310T100000
END:DAYLIGHT
BEGIN:STANDARD
TZOFFSETFROM:-0700
TZOFFSETTO:-0800
TZNAME:PST
DTSTART:20241103T090000
END:STANDARD
BEGIN:DAYLIGHT
TZOFFSETFROM:-0800
TZOFFSETTO:-0700
TZNAME:PDT
DTSTART:20250309T100000
END:DAYLIGHT
BEGIN:STANDARD
TZOFFSETFROM:-0700
TZOFFSETTO:-0800
TZNAME:PST
DTSTART:20251102T090000
END:STANDARD
BEGIN:DAYLIGHT
TZOFFSETFROM:-0800
TZOFFSETTO:-0700
TZNAME:PDT
DTSTART:20260308T100000
END:DAYLIGHT
BEGIN:STANDARD
TZOFFSETFROM:-0700
TZOFFSETTO:-0800
TZNAME:PST
DTSTART:20261101T090000
END:STANDARD
END:VTIMEZONE
BEGIN:VEVENT
DTSTART;TZID=UTC:20250326T180000
DTEND;TZID=UTC:20250326T190000
DTSTAMP:20260424T023646
CREATED:20250315T011859Z
LAST-MODIFIED:20250315T011859Z
UID:67402-1743012000-1743015600@svec.org
SUMMARY:Introduction to NVivo
DESCRIPTION:
URL:https://svec.org/event/introduction-to-nvivo-4/
LOCATION:CA
END:VEVENT
BEGIN:VEVENT
DTSTART;TZID=America/Los_Angeles:20250326T190000
DTEND;TZID=America/Los_Angeles:20250326T200000
DTSTAMP:20260424T023646
CREATED:20250305T083455Z
LAST-MODIFIED:20250305T083455Z
UID:66902-1743015600-1743019200@svec.org
SUMMARY:Tech Talk: Application of AI in Healthcare
DESCRIPTION:Title: Application of AI in Healthcare Programs to support non-profit hospitals and manufacturers.\nAbstract:\nThe 340B Drug Pricing Program plays a critical role in supporting non-profit hospitals by providing discounted medications to underserved populations. The integration of Artificial Intelligence (AI) into the 340B program offers transformative potential to enhance efficiency\, compliance\, and resource allocation. This presentation covers the application of AI in key areas\, including drug procurement\, inventory management\, compliance monitoring\, patient eligibility verification\, and revenue cycle optimization. AI-driven tools can also reduce drug diversion\, enhance data transparency \, and provide actionable insights for stakeholders. While these advancements promise significant benefits\, such as cost savings and improved patient care\, challenges such as data privacy\, implementation costs\, and potential biases must be addressed. AI’s strategic application in the 340B program can foster greater collaboration between non-profit hospitals and manufacturers\, ensuring the program’s continued success in addressing healthcare disparities.\nBio:\nVenkata Poranki is a seasoned professional with over 20 years of experience in the software and IT industry. He is currently serving as a Program Manager at Zions Bank in Salt Lake City\, Utah. With a strong background in product management\, technical solutions\, and software architecture\, Venkata has honed his expertise in areas such as quantum computing\, cybersecurity\, information systems security\, and AI-assisted technologies.\nVenkata holds a BSc and MSc in Computer Science and is actively pursuing a PhD at KL University in India. His research interests include quantum mechanics in cryptography\, which aligns with his ongoing commitment to exploring cutting-edge developments in cybersecurity. He has published several papers in reputed journals\, focusing on AI-assisted systems\, particularly in the healthcare sector.\nAdditionally\, Venkata is pursuing a Master of Science in Computer Science with a concentration in Cyber Security Engineering from Colorado Technical University. He is passionate about advancing innovation in his field\, following his personal formula for invention: "Imagine-create-adopt." Outside of his professional life\, Venkata enjoys traveling along with his family and exploring new cultures.\nSpeaker(s): Raju PVK\,\nVirtual: https://events.vtools.ieee.org/m/472841
URL:https://svec.org/event/tech-talk-application-of-ai-in-healthcare/
LOCATION:Virtual: https://events.vtools.ieee.org/m/472841
END:VEVENT
END:VCALENDAR