BEGIN:VCALENDAR
VERSION:2.0
PRODID:-//Silicon Valley Engineering Council - ECPv6.15.20//NONSGML v1.0//EN
CALSCALE:GREGORIAN
METHOD:PUBLISH
X-WR-CALNAME:Silicon Valley Engineering Council
X-ORIGINAL-URL:https://svec.org
X-WR-CALDESC:Events for Silicon Valley Engineering Council
REFRESH-INTERVAL;VALUE=DURATION:PT1H
X-Robots-Tag:noindex
X-PUBLISHED-TTL:PT1H
BEGIN:VTIMEZONE
TZID:America/Los_Angeles
BEGIN:DAYLIGHT
TZOFFSETFROM:-0800
TZOFFSETTO:-0700
TZNAME:PDT
DTSTART:20240310T100000
END:DAYLIGHT
BEGIN:STANDARD
TZOFFSETFROM:-0700
TZOFFSETTO:-0800
TZNAME:PST
DTSTART:20241103T090000
END:STANDARD
BEGIN:DAYLIGHT
TZOFFSETFROM:-0800
TZOFFSETTO:-0700
TZNAME:PDT
DTSTART:20250309T100000
END:DAYLIGHT
BEGIN:STANDARD
TZOFFSETFROM:-0700
TZOFFSETTO:-0800
TZNAME:PST
DTSTART:20251102T090000
END:STANDARD
BEGIN:DAYLIGHT
TZOFFSETFROM:-0800
TZOFFSETTO:-0700
TZNAME:PDT
DTSTART:20260308T100000
END:DAYLIGHT
BEGIN:STANDARD
TZOFFSETFROM:-0700
TZOFFSETTO:-0800
TZNAME:PST
DTSTART:20261101T090000
END:STANDARD
END:VTIMEZONE
BEGIN:VEVENT
DTSTART;TZID=America/Los_Angeles:20250410T113000
DTEND;TZID=America/Los_Angeles:20250410T131500
DTSTAMP:20260422T025018
CREATED:20250314T090316Z
LAST-MODIFIED:20250314T090316Z
UID:67364-1744284600-1744290900@svec.org
SUMMARY:Disposable 3 Day Insulin Patches; Enabled by PNP SiGe Thermoelectrics
DESCRIPTION:Disposable 3 Day Insulin Patches; Enabled by PNP SiGe Thermoelectrics\nAbstract:\nDisposable 3 Day Insulin Patches Enabled by PNP SiGe Thermoelectrics Driving a NanoCompressor based on Thermal Diffusion\nSpeaker:\nPeter Garbuz\nCEO of Torramics\nAGENDA:\nThursday April 10\, 2025\n11:30 AM: Networking\, Pizza & Drinks\nNoon — 1 pm: Seminar\nPlease register on Eventbrite before 9:30 AM on Thursday April 10\, 2025\n$4 IEEE members $6 non IEEE members\n(discounts for unemployed and students )\nSee examplesAdd\nCo-sponsored by: SCV/OEB/SF Jt. Section Chapter\,EP21\nBldg: ==> Use corner entrance: Kifer Road / San Lucar Court ==> Do not enter at main entrance on Kifer Road\, EAG Labs\, 810 Kifer Road\, Sunnyvale\, California\, California\, United States\, 95051
URL:https://svec.org/event/disposable-3-day-insulin-patches-enabled-by-pnp-sige-thermoelectrics/
LOCATION:Bldg: ==> Use corner entrance: Kifer Road / San Lucar Court ==> Do not enter at main entrance on Kifer Road\, EAG Labs\, 810 Kifer Road\, Sunnyvale\, California\, California\, United States\, 95051
END:VEVENT
END:VCALENDAR