BEGIN:VCALENDAR
VERSION:2.0
PRODID:-//Silicon Valley Engineering Council - ECPv6.15.20//NONSGML v1.0//EN
CALSCALE:GREGORIAN
METHOD:PUBLISH
X-ORIGINAL-URL:https://svec.org
X-WR-CALDESC:Events for Silicon Valley Engineering Council
REFRESH-INTERVAL;VALUE=DURATION:PT1H
X-Robots-Tag:noindex
X-PUBLISHED-TTL:PT1H
BEGIN:VTIMEZONE
TZID:-07:00
END:VTIMEZONE
BEGIN:VTIMEZONE
TZID:America/Los_Angeles
BEGIN:DAYLIGHT
TZOFFSETFROM:-0800
TZOFFSETTO:-0700
TZNAME:PDT
DTSTART:20240310T100000
END:DAYLIGHT
BEGIN:STANDARD
TZOFFSETFROM:-0700
TZOFFSETTO:-0800
TZNAME:PST
DTSTART:20241103T090000
END:STANDARD
BEGIN:DAYLIGHT
TZOFFSETFROM:-0800
TZOFFSETTO:-0700
TZNAME:PDT
DTSTART:20250309T100000
END:DAYLIGHT
BEGIN:STANDARD
TZOFFSETFROM:-0700
TZOFFSETTO:-0800
TZNAME:PST
DTSTART:20251102T090000
END:STANDARD
BEGIN:DAYLIGHT
TZOFFSETFROM:-0800
TZOFFSETTO:-0700
TZNAME:PDT
DTSTART:20260308T100000
END:DAYLIGHT
BEGIN:STANDARD
TZOFFSETFROM:-0700
TZOFFSETTO:-0800
TZNAME:PST
DTSTART:20261101T090000
END:STANDARD
END:VTIMEZONE
BEGIN:VEVENT
DTSTART;TZID=-07:00:20250415T090000
DTEND;TZID=-07:00:20250417T180000
DTSTAMP:20260424T024033
CREATED:20250319T114919Z
LAST-MODIFIED:20250319T114919Z
UID:67604-1744707600-1744912800@svec.org
SUMMARY:AI User Conference
DESCRIPTION:**Big News! We’re Partnering with AI User Group Conference 2025 ????** \nAfter the success of last year’s event\, AI User Group is back with a three-day conference dedicated to practical AI applications for marketers\, designers\, and developers. \n???? Fort Mason\, San Francisco\n???? April 15-17\, 2025 \nAs a partner\, we’re thrilled to offer exclusive benefits for our community: \n✅ Free Visitor Pass (Main Stage & Expo Access) – Lu.ma [Day 1](https://lu.ma/aiuc25-marketer-day?coupon=UNLOCKNOW)\, [Day 2](https://lu.ma/aiuc25-designer-day?coupon=UNLOCKNOW)\, [Day 3](https://lu.ma/aiuc25-developer-day?coupon=UNLOCKNOW)\n✅ 50% Off Pro Pass (Workshops + Recordings) – Eventbrite ([single or all days](http://www.eventbrite.com/e/1088288312639/?discount=UNLOCKNOW)) \nDon’t miss your chance to learn from top AI experts\, discover cutting-edge tools\, and connect with like-minded professionals. \n???? Claim your spot today!
URL:https://svec.org/event/ai-user-conference/
LOCATION:CA
ATTACH;FMTTYPE=image/jpeg:https://svec.org/wp-content/uploads/2025/03/1024x576-rfaJ4v.tmp_.jpg
END:VEVENT
BEGIN:VEVENT
DTSTART;TZID=America/Los_Angeles:20250417T160000
DTEND;TZID=America/Los_Angeles:20250417T170000
DTSTAMP:20260424T024033
CREATED:20250410T020101Z
LAST-MODIFIED:20250410T020101Z
UID:68342-1744905600-1744909200@svec.org
SUMMARY:2025 April SCV WIE ExCom Meeting
DESCRIPTION:2025 April SCV WIE ExCom Meeting – Zoom\nAgenda:\n1) New Member Introductions\n2) Upcoming Key Events\n– Prompt Engineering: Making the most out of LLMs (co-host with the CS Chapter) on Apr 16\, 2025 at 6 pm\n– IEEE WIE ILC in San Jose on May 15\, 16 2025\n– IEEE SCV WIE AI Summit 2025 on May 21 2025\n– IEEE SCV WIE April ExCom on Apr 24\, 2025\n– vTools Updates\nShweta Behere – member\nIpsita Mohanty – member\nHazel Stoiber – member\nSreyashi Das – member\nSue Delafuente – member\nTamra Smith-Wasel – non-member\nShalini Rao – member\nAgenda:\nVirtual: https://events.vtools.ieee.org/m/479105
URL:https://svec.org/event/2025-april-scv-wie-excom-meeting/
LOCATION:Virtual: https://events.vtools.ieee.org/m/479105
END:VEVENT
BEGIN:VEVENT
DTSTART;TZID=America/Los_Angeles:20250417T173000
DTEND;TZID=America/Los_Angeles:20250417T203000
DTSTAMP:20260424T024033
CREATED:20250315T090743Z
LAST-MODIFIED:20250315T090743Z
UID:67431-1744911000-1744921800@svec.org
SUMMARY:PG&E Community Microgrids
DESCRIPTION:When severe weather or other events take the electric grid down is your community ready? If your answer is no\, a community Microgrid might be the solution.\nA Microgrid (MG) can provide a source of localized power during a grid outage due to extreme weather\, a Public Safety Power Shutoff event or other outage. In addition\, it can offer efficiency\, cost and environmental benefits. A community MG is a group of PG&E customers and Distributed Energy Resources (DERs) within a clearly defined electrical boundary able to disconnect and reconnect to the grid\, so critical facilities can be safely energized. A community MG is typically designed to provide energy resilience to important community facilities\, such as Hospitals\, Police and Fire Stations\, Gas Stations and Markets.\nThe local DERs\, such as a solar photovoltaic (PV) system and battery\, can be owned by third parties and can participate in wholesale markets for energy and related services. PG&E will continue to own and operate the distribution system on which the Microgrid capability is built.\nPG&E’s Community Microgrid Enablement Program (CMEP) and Microgrid Incentive Program (MIP) offer both financial and technical support. Creating a community MG requires collaboration between your community\, a technical engineering firm\, and PG&E. The CMEP and MIP can help you take your community’s energy resilience ideas from concept to reality.\nThis presentation will offer a general definition of community MGs\, including architecture\, electrical design\, operational modes\, DER’s etc.\, and offer an example of an implemented solution. Also\, it will describe CMEP steps including Consultation\, Application\, Study & Analysis\, Development\, Operation. The CMEP and MIP work together to fund all aspects of a community Microgrid. They support the development of clean community Microgrids in disadvantaged and vulnerable communities (DVCs). You can apply for either one individually\, or for both programs together.\nSpeaker(s): Shreya Kodnadu\, Franz Stadtmueller\nAgenda:\nNo-host social at 5:30pm\nPresentation at 6:00pm\nDinner at 7:00pm\nPresentation continues at 7:45pm\nAdjourn by 8:30pm\nZio Fraedo’s\, 611 Gregory Lane\, Pleasant Hill\, California\, United States\, 94523
URL:https://svec.org/event/pge-community-microgrids/
LOCATION:Zio Fraedo’s\, 611 Gregory Lane\, Pleasant Hill\, California\, United States\, 94523
END:VEVENT
END:VCALENDAR