BEGIN:VCALENDAR
VERSION:2.0
PRODID:-//Silicon Valley Engineering Council - ECPv6.15.20//NONSGML v1.0//EN
CALSCALE:GREGORIAN
METHOD:PUBLISH
X-WR-CALNAME:Silicon Valley Engineering Council
X-ORIGINAL-URL:https://svec.org
X-WR-CALDESC:Events for Silicon Valley Engineering Council
REFRESH-INTERVAL;VALUE=DURATION:PT1H
X-Robots-Tag:noindex
X-PUBLISHED-TTL:PT1H
BEGIN:VTIMEZONE
TZID:America/Los_Angeles
BEGIN:DAYLIGHT
TZOFFSETFROM:-0800
TZOFFSETTO:-0700
TZNAME:PDT
DTSTART:20240310T100000
END:DAYLIGHT
BEGIN:STANDARD
TZOFFSETFROM:-0700
TZOFFSETTO:-0800
TZNAME:PST
DTSTART:20241103T090000
END:STANDARD
BEGIN:DAYLIGHT
TZOFFSETFROM:-0800
TZOFFSETTO:-0700
TZNAME:PDT
DTSTART:20250309T100000
END:DAYLIGHT
BEGIN:STANDARD
TZOFFSETFROM:-0700
TZOFFSETTO:-0800
TZNAME:PST
DTSTART:20251102T090000
END:STANDARD
BEGIN:DAYLIGHT
TZOFFSETFROM:-0800
TZOFFSETTO:-0700
TZNAME:PDT
DTSTART:20260308T100000
END:DAYLIGHT
BEGIN:STANDARD
TZOFFSETFROM:-0700
TZOFFSETTO:-0800
TZNAME:PST
DTSTART:20261101T090000
END:STANDARD
END:VTIMEZONE
BEGIN:VEVENT
DTSTART;TZID=America/Los_Angeles:20250508T080000
DTEND;TZID=America/Los_Angeles:20250509T170000
DTSTAMP:20260422T022818
CREATED:20250122T060917Z
LAST-MODIFIED:20250122T060917Z
UID:64375-1746691200-1746810000@svec.org
SUMMARY:2025 Build-Up Substrate Symposium
DESCRIPTION:[]The mega-monolithic silicon chip is a thing of the past\, replaced with 3D heterogeneous integration of chiplets onto a platform made of an organic build-up substrate. Volume build-up substrates used by major IDMs are manufactured in Asian countries including Taiwan\, Japan and China. However\, there are multiple activities starting up in the US\, and this is why a gathering of the North American players is important. This symposium is geared for all those involved in the supply chain of build-up substrates in the US\, as well as users. This Symposium is an opportunity for all build-up substrate players to meet\, network and cohesively work with funding agencies who are invited to this symposium to focus on onshoring build-up substrate production and utilization.\nSEMI World Headquarters\, 673 South Milpitas Blvd\, Milpitas\, California\, United States\, 95035
URL:https://svec.org/event/2025-build-up-substrate-symposium/
LOCATION:SEMI World Headquarters\, 673 South Milpitas Blvd\, Milpitas\, California\, United States\, 95035
END:VEVENT
BEGIN:VEVENT
DTSTART;TZID=America/Los_Angeles:20250508T080000
DTEND;TZID=America/Los_Angeles:20250509T170000
DTSTAMP:20260422T022818
CREATED:20250122T060917Z
LAST-MODIFIED:20250122T060917Z
UID:64376-1746691200-1746810000@svec.org
SUMMARY:Second Annual IEEE Build-Up Substrate Symposium (BUSS)
DESCRIPTION:[]We are living in the era of heterogeneous integration driven by fast\, efficient and big data computing resources at our fingertips. The mega-monolithic silicon chip is a thing of the past\, replaced with 3D heterogeneous integration of chiplets onto a platform made of an organic build-up substrate. Volume manufacturers of build-up substrates are entirely based in Asia\, leaving a desert in the US. Volume build-up substrates used by major IDMs are manufactured in Asian countries including Taiwan\, Japan and China.\nHowever\, there are multiple activities starting up in the US\, and this is why a gathering of the US players is important. This symposium is geared for all those involved in the supply chain of build-up substrates in the US\, as well as users. This Symposium is an opportunity for all build-up substrate players to meet\, network and cohesively work with funding agencies who will be invited to this symposium to focus on onshoring build-up substrate production and utilization.\nAgenda:\nSessions:\n— Substrate Manufacturing and Onshoring\n— Materials for Substrates\n— Emerging Substrate Technologies\n— Panel Equipment and Technologies for Substrates\n— Inspection and Testing\n… plus two panels:\n— Substrate End Users\n— Onshoring and Startups\nSEMI World Headquarters\, 673 South Milpitas Blvd\, Milpitas\, California\, United States\, 95035
URL:https://svec.org/event/second-annual-ieee-build-up-substrate-symposium-buss/
LOCATION:SEMI World Headquarters\, 673 South Milpitas Blvd\, Milpitas\, California\, United States\, 95035
END:VEVENT
END:VCALENDAR