BEGIN:VCALENDAR
VERSION:2.0
PRODID:-//Silicon Valley Engineering Council - ECPv6.15.20//NONSGML v1.0//EN
CALSCALE:GREGORIAN
METHOD:PUBLISH
X-WR-CALNAME:Silicon Valley Engineering Council
X-ORIGINAL-URL:https://svec.org
X-WR-CALDESC:Events for Silicon Valley Engineering Council
REFRESH-INTERVAL;VALUE=DURATION:PT1H
X-Robots-Tag:noindex
X-PUBLISHED-TTL:PT1H
BEGIN:VTIMEZONE
TZID:America/Los_Angeles
BEGIN:DAYLIGHT
TZOFFSETFROM:-0800
TZOFFSETTO:-0700
TZNAME:PDT
DTSTART:20240310T100000
END:DAYLIGHT
BEGIN:STANDARD
TZOFFSETFROM:-0700
TZOFFSETTO:-0800
TZNAME:PST
DTSTART:20241103T090000
END:STANDARD
BEGIN:DAYLIGHT
TZOFFSETFROM:-0800
TZOFFSETTO:-0700
TZNAME:PDT
DTSTART:20250309T100000
END:DAYLIGHT
BEGIN:STANDARD
TZOFFSETFROM:-0700
TZOFFSETTO:-0800
TZNAME:PST
DTSTART:20251102T090000
END:STANDARD
BEGIN:DAYLIGHT
TZOFFSETFROM:-0800
TZOFFSETTO:-0700
TZNAME:PDT
DTSTART:20260308T100000
END:DAYLIGHT
BEGIN:STANDARD
TZOFFSETFROM:-0700
TZOFFSETTO:-0800
TZNAME:PST
DTSTART:20261101T090000
END:STANDARD
END:VTIMEZONE
BEGIN:VEVENT
DTSTART;TZID=America/Los_Angeles:20250516T113000
DTEND;TZID=America/Los_Angeles:20250516T130000
DTSTAMP:20260424T023326
CREATED:20250419T221823Z
LAST-MODIFIED:20250419T221823Z
UID:68838-1747395000-1747400400@svec.org
SUMMARY:Printed and Flexible Electronics and Devices
DESCRIPTION:The rapid emergence of the Internet of Things era has led to increased research activities in the area of printed and flexible electronics. The activities range from ink development and characterization\, printing tool and process development to obtain desirable characteristics of printed conductors\, semiconductors\, dielectrics and others\, and demonstration of various printed devices on a wide variety of flexible substrates including paper\, plastics and textiles. This talk will provide an overview of the above topics and applications including printed antennas\, EMI shields\, gas sensors\, supercapacitors\, photodetectors and others. Advances in printer development such as plasma jet printing\, as an alternative to inkjet and aerosol jet printing\, will also be discussed. The author thanks Ram Gandhiraman\, Pranay Doshi\, Daniel Gutierrez\, Hiu-Yung Wong\, Jin-Woo Han\, Myeonglok Seol\, Beomseok Kim\, Subhankar Debnath and P.K. Giri for their contributions.\nWhen: Friday\, May 16th\, 2025 – 11:30AM to 1PM (PDT)\n11:30AM – 12PM: Networking / Pizza\n12PM-12:45PM: Lecture\n12:45PM-12:55PM: Q&A\n1PM Adjourn\nBio:\nMeyya Meyyappan recently retired from NASA Ames Research Center in Silicon Valley after serving as Chief Scientist for Exploration Technology and Director of the Center for Nanotechnology. He is currently an Honorary Professor at IIT-Guwahati\, India. He has authored or co-authored over 430 articles in peer-reviewed journals and made over 300 Invited/Keynote/Plenary Talks in conferences across the world and over 300 seminars at universities. He is a Fellow of IEEE\, AVS\, ECS\, MRS\, ASME\, AIChE\, and National Academy of Inventors.\nFor his contributions and leadership in nanotechnology\, he has received numerous awards including: a Presidential Meritorious Award; NASA's Outstanding Leadership Medal; IEEE Judith Resnick Award; IEEE-USA Harry Diamond Award; AIChE Nanoscale Science and Engineering Forum Award; Distinguished Engineering Achievement Award by the Engineers' Council; Pioneer Award in Nanotechnology by the IEEE-NTC; Sir Monty Finniston Award by the Institution of Engineering and Technology (UK); IEEE-USA Professional Achievement Award; AVS Nanotechnology Recognition Award; IEEE Nuclear and Plasma Sciences Society Merit Award; AVS Plasma Prize; MRS Impact Award; FLEXI Technology Champion Award for Printed and Flexible Electronics; ECS Thomas Callinan Award. For his sustained contributions to nanotechnology\, he was inducted into the Silicon Valley Engineering Council Hall of Fame in 2009. He has received Honorary Doctorate from the University of Witwatersrand\, Johannesburg\, South Africa. He served as President of both IEEE Nanotechnology Council (NTC) and IEEE Electron Devices Society (EDS).\nFor his educational contributions\, he has received: Outstanding Recognition Award from the NASA Office of Education; the Engineer of the Year Award (2004) by the San Francisco Section of the American Institute of Aeronautics and Astronautics; IEEE-EDS Education Award; IEEE-EAB (Educational Activities Board) Meritorious Achievement Award in Continuing Education.\nVirtual: https://events.vtools.ieee.org/m/481916
URL:https://svec.org/event/printed-and-flexible-electronics-and-devices/
LOCATION:Virtual: https://events.vtools.ieee.org/m/481916
END:VEVENT
BEGIN:VEVENT
DTSTART;TZID=America/Los_Angeles:20250516T183000
DTEND;TZID=America/Los_Angeles:20250516T200000
DTSTAMP:20260424T023326
CREATED:20250513T022219Z
LAST-MODIFIED:20250513T022219Z
UID:70084-1747420200-1747425600@svec.org
SUMMARY:How to Start a Consultancy Business - A Presentation by IEEE CNSV
DESCRIPTION:Ever thought of starting your own business and wondered where to start?\nIEEE Santa Clara Valley Young Professionals (SCV YP) in collaboration with IEEE Consultants Network of Silicon Valley (CNSV) presents\,\nHow to Start a Consultancy Business – A Presentation by IEEE CNSV\nJoin us for an insightful presentation and engaging QA session led by IEEE CNSV\, the expert network of consultants in Silicon Valley. This event will provide a step-by-step guide to launching your own successful consultancy business\, covering essential topics such as defining your niche\, building your brand\, attracting clients\, and managing operations. Learn from CNSV's experience and gain valuable insights from a panel of established consultants.\nCo-sponsored by: IEEE Consultants Network of Silicon Valley (CNSV)\nAgenda:\nThe agenda\,\n18:30 | Welcome and housekeeping (speaker introductions) | 5 min | Zafar Iqbal\, Ph.D.\, SCV YP Chair\, and Ron Herardian\, CNSV Treasurer\n18:35 | Opening remarks and CNSV overview | 10 min | David Snyder\, MBA\, PE\, CISSP\, CNSV Chairperson\n18:45 | Legal structure\, tax\, and insurance (C-Corp vs. S-Corp; tax treatment\, contractor vs. employee; GL\, E&O\, etc.) | 15 min | John Carlsen\, CNSV Director\n19:00 | Legal matters for consultants (e.g.\, contracts\, trademarks\, NDAs\, intellectual property) | 15 min | David Sanker\, Ph.D.\, Intellectual Property Attorney\n19:15 | Attracting clients and winning new business (including IEEE promotion and social media promotion) | 15 min | Travis Heneveld\, MBA\, Technology\, Business & Impact Advisor\n19:30 | Service delivery (contributor vs. manager\, client-consultant duties\, subcontracts\, etc.) | 10 min | Ron Herardian\, CNSV Treasurer\n19:40 | Parallels between consulting and startups (as time allows) | 5 min | Ron Herardian\, CNSV Treasurer\n19:45 | Q&A with CNSV speakers | 15 minutes | Speaker Panel\n20:00 | End\nRoom: 1302\, Bldg: SCDI\, Santa Clara University\, Santa Clara\, California\, United States\, 95053
URL:https://svec.org/event/how-to-start-a-consultancy-business-a-presentation-by-ieee-cnsv/
LOCATION:Room: 1302\, Bldg: SCDI\, Santa Clara University\, Santa Clara\, California\, United States\, 95053
END:VEVENT
END:VCALENDAR