BEGIN:VCALENDAR
VERSION:2.0
PRODID:-//Silicon Valley Engineering Council - ECPv6.15.20//NONSGML v1.0//EN
CALSCALE:GREGORIAN
METHOD:PUBLISH
X-ORIGINAL-URL:https://svec.org
X-WR-CALDESC:Events for Silicon Valley Engineering Council
REFRESH-INTERVAL;VALUE=DURATION:PT1H
X-Robots-Tag:noindex
X-PUBLISHED-TTL:PT1H
BEGIN:VTIMEZONE
TZID:America/Phoenix
BEGIN:STANDARD
TZOFFSETFROM:-0700
TZOFFSETTO:-0700
TZNAME:MST
DTSTART:20240101T000000
END:STANDARD
END:VTIMEZONE
BEGIN:VTIMEZONE
TZID:America/Los_Angeles
BEGIN:DAYLIGHT
TZOFFSETFROM:-0800
TZOFFSETTO:-0700
TZNAME:PDT
DTSTART:20240310T100000
END:DAYLIGHT
BEGIN:STANDARD
TZOFFSETFROM:-0700
TZOFFSETTO:-0800
TZNAME:PST
DTSTART:20241103T090000
END:STANDARD
BEGIN:DAYLIGHT
TZOFFSETFROM:-0800
TZOFFSETTO:-0700
TZNAME:PDT
DTSTART:20250309T100000
END:DAYLIGHT
BEGIN:STANDARD
TZOFFSETFROM:-0700
TZOFFSETTO:-0800
TZNAME:PST
DTSTART:20251102T090000
END:STANDARD
BEGIN:DAYLIGHT
TZOFFSETFROM:-0800
TZOFFSETTO:-0700
TZNAME:PDT
DTSTART:20260308T100000
END:DAYLIGHT
BEGIN:STANDARD
TZOFFSETFROM:-0700
TZOFFSETTO:-0800
TZNAME:PST
DTSTART:20261101T090000
END:STANDARD
END:VTIMEZONE
BEGIN:VEVENT
DTSTART;TZID=America/Phoenix:20250625T120000
DTEND;TZID=America/Phoenix:20250625T140000
DTSTAMP:20260424T042710
CREATED:20250608T051010Z
LAST-MODIFIED:20250608T051010Z
UID:75929-1750852800-1750860000@svec.org
SUMMARY:A System of Systems for Cognitive Decision-Making
DESCRIPTION:A System of Systems for Cognitive Decision-Making\nDecision-making is a task that an average person does about 300 to 400 times a day. Most decisions are minor but there are some that are of great importance\, that the decision can have great impact. The Butterfly Effect states that a small action in one part of the world can cause a great effect in another part of the world at some later time.\nThe Gartner Group estimates that by 2028 33% of enterprise applications will include agentic AI\, and that this will enable 15% of daily work decisions to be made autonomously\, without human intervention. . This can be fueled by a combination of shortage of capable humans\, an increase in the cost of human involvement\, and greater AI accuracy and performance. It should be started on a narrow realm of application\, and with knowledge\, experience\, and success\, the realm could be expanded. Human cognitive function is an important part of this paper\, except that we try to create it in the machine environment.\nSome example situations are included to help demonstrate the problem. This paper explains some of the types of decision-making and how they are performed. The paper then continues with how this process\, modeled after an intelligent human would perform the task. This discussion combines computer science\, decision sciences\, psychology\, and mathematics to describe this project.\nSpeaker(s): \, Dr. Morantz\nVirtual: https://events.vtools.ieee.org/m/488111
URL:https://svec.org/event/a-system-of-systems-for-cognitive-decision-making/
LOCATION:Virtual: https://events.vtools.ieee.org/m/488111
END:VEVENT
BEGIN:VEVENT
DTSTART;TZID=America/Los_Angeles:20250625T183000
DTEND;TZID=America/Los_Angeles:20250625T203000
DTSTAMP:20260424T042710
CREATED:20250531T031808Z
LAST-MODIFIED:20250531T031808Z
UID:75902-1750876200-1750883400@svec.org
SUMMARY:IEEE Santa Clara Valley Section Senior Membership Elevation Event
DESCRIPTION:IEEE Senior Membership Elevation & Networking Event\nHosted by the IEEE Santa Clara Valley Section\nJoin us for a special IEEE Senior Membership Elevation and Networking Event designed to support eligible IEEE members in advancing to Senior Member grade — the highest IEEE membership level that can be achieved through application.\nAt this event\, you'll have the opportunity to:\n–\nMeet with IEEE Senior Members and Fellows who can provide the required references for your Senior Member application\n–\nLearn about the benefits of IEEE Senior Membership\, including recognition\, leadership eligibility\, and professional advancement\n–\nReceive guidance on the application process and how to present your accomplishments effectively\n–\nNetwork with fellow professionals\, including members of the IEEE Santa Clara Valley Section from a range of industries and technical backgrounds\nWhether you're ready to apply or just starting to explore Senior Membership\, this event is an excellent opportunity to connect\, learn\, and take the next step in your IEEE journey.\nEligibility Note: To be considered for Senior Member status\, you should have at least 10 years of professional experience and significant performance over a period of at least 5 years.\nEvent Details:\n???? Sensors Converge\nSanta Clara Convention Center\n5001 Great America Pkwy\nSanta Clara\, CA 95054\n???? June 25 6:30pm-8:30pm\n???? RSVP required – Please register for Sensors Converge Expo Hall Pass using the code IEEESCV\nWe look forward to helping you elevate your IEEE membership and expand your professional network!\n5001 Great America Pkwy\, Santa Clara\, California\, United States
URL:https://svec.org/event/ieee-santa-clara-valley-section-senior-membership-elevation-event/
LOCATION:5001 Great America Pkwy\, California City\, CA\, United States
END:VEVENT
END:VCALENDAR