BEGIN:VCALENDAR
VERSION:2.0
PRODID:-//Silicon Valley Engineering Council - ECPv6.15.20//NONSGML v1.0//EN
CALSCALE:GREGORIAN
METHOD:PUBLISH
X-ORIGINAL-URL:https://svec.org
X-WR-CALDESC:Events for Silicon Valley Engineering Council
REFRESH-INTERVAL;VALUE=DURATION:PT1H
X-Robots-Tag:noindex
X-PUBLISHED-TTL:PT1H
BEGIN:VTIMEZONE
TZID:America/Denver
BEGIN:DAYLIGHT
TZOFFSETFROM:-0700
TZOFFSETTO:-0600
TZNAME:MDT
DTSTART:20240310T090000
END:DAYLIGHT
BEGIN:STANDARD
TZOFFSETFROM:-0600
TZOFFSETTO:-0700
TZNAME:MST
DTSTART:20241103T080000
END:STANDARD
BEGIN:DAYLIGHT
TZOFFSETFROM:-0700
TZOFFSETTO:-0600
TZNAME:MDT
DTSTART:20250309T090000
END:DAYLIGHT
BEGIN:STANDARD
TZOFFSETFROM:-0600
TZOFFSETTO:-0700
TZNAME:MST
DTSTART:20251102T080000
END:STANDARD
BEGIN:DAYLIGHT
TZOFFSETFROM:-0700
TZOFFSETTO:-0600
TZNAME:MDT
DTSTART:20260308T090000
END:DAYLIGHT
BEGIN:STANDARD
TZOFFSETFROM:-0600
TZOFFSETTO:-0700
TZNAME:MST
DTSTART:20261101T080000
END:STANDARD
END:VTIMEZONE
BEGIN:VEVENT
DTSTART;TZID=America/Denver:20250707T183000
DTEND;TZID=America/Denver:20250707T194500
DTSTAMP:20260424T023456
CREATED:20250706T090317Z
LAST-MODIFIED:20250706T090317Z
UID:76723-1751913000-1751917500@svec.org
SUMMARY:WiE Unplugged: Real Stories Behind the Resumes
DESCRIPTION:Join IEEE Women in Engineering – Boise Section for a special virtual event where three amazing women engineers will share the real stories behind their careers.\nOur amazing speakers are\n1) Jennifer Houle (Clinical Assistant Professor\, Electrical and Computer Engineering\, Boise State University)\n2) Peijung Tsai ( Lead Systems Engineer\, L3Harris Technologies)\n3) Shanya Chaubey (HBM Product management\, Micron Technology Inc)\nThis event is not about resumes or job titles — it’s about the personal journeys\, challenges\, and lessons they’ve learned along the way. You’ll hear how things like AI\, new technologies\, or changes at work have helped or made things harder for them.\n🗣️ What to expect:\n–\nShort talks from each speaker\n–\nA fun rapid-fire question round\n–\nTime for the audience to ask questions\n–\nSpeakers can share slides if they want to\nThis is a great event for students\, professionals\, or anyone interested in STEM. Join us and get inspired!\nSpeaker(s): \, \,\nAgenda:\nTentative Agenda: WiE Unplugged\nDuration: 1 hour 15 mins (virtual)\nFormat: Panel-style session with short talks + audience interaction\n–\nWelcome & Introductions – 5 minutes\n–\nHosted by IEEE WiE Boise Section\n–\nBrief introduction of each speaker\n–\nSpeaker Segments – 10 minutes each. Feel free to make it as open or honest as you like — this event is meant to be raw\, honest\, and relatable\n– Slides are optional (3–5 max)\, and we encourage you to include anything you feel adds impact\, such as how emerging technologies like AI\, remote work culture\, or other industry trends have influenced your work\, for better or worse.\n–\nRapid Fire Round – 5- 10 minutes each\n–\nFun and light questions (5 each) to keep the energy up.\n–\nAudience Q&A –5- 10 minutes\n–\nUnfiltered questions such as career related questions from attendees\n–\nClosing & Thank You – 5 minutes\n–\nFinal takeaways + group screenshot\nVirtual: https://events.vtools.ieee.org/m/490224
URL:https://svec.org/event/wie-unplugged-real-stories-behind-the-resumes/
LOCATION:Virtual: https://events.vtools.ieee.org/m/490224
END:VEVENT
END:VCALENDAR