BEGIN:VCALENDAR
VERSION:2.0
PRODID:-//Silicon Valley Engineering Council - ECPv6.15.20//NONSGML v1.0//EN
CALSCALE:GREGORIAN
METHOD:PUBLISH
X-WR-CALNAME:Silicon Valley Engineering Council
X-ORIGINAL-URL:https://svec.org
X-WR-CALDESC:Events for Silicon Valley Engineering Council
REFRESH-INTERVAL;VALUE=DURATION:PT1H
X-Robots-Tag:noindex
X-PUBLISHED-TTL:PT1H
BEGIN:VTIMEZONE
TZID:America/Los_Angeles
BEGIN:DAYLIGHT
TZOFFSETFROM:-0800
TZOFFSETTO:-0700
TZNAME:PDT
DTSTART:20240310T100000
END:DAYLIGHT
BEGIN:STANDARD
TZOFFSETFROM:-0700
TZOFFSETTO:-0800
TZNAME:PST
DTSTART:20241103T090000
END:STANDARD
BEGIN:DAYLIGHT
TZOFFSETFROM:-0800
TZOFFSETTO:-0700
TZNAME:PDT
DTSTART:20250309T100000
END:DAYLIGHT
BEGIN:STANDARD
TZOFFSETFROM:-0700
TZOFFSETTO:-0800
TZNAME:PST
DTSTART:20251102T090000
END:STANDARD
BEGIN:DAYLIGHT
TZOFFSETFROM:-0800
TZOFFSETTO:-0700
TZNAME:PDT
DTSTART:20260308T100000
END:DAYLIGHT
BEGIN:STANDARD
TZOFFSETFROM:-0700
TZOFFSETTO:-0800
TZNAME:PST
DTSTART:20261101T090000
END:STANDARD
END:VTIMEZONE
BEGIN:VTIMEZONE
TZID:-07:00
END:VTIMEZONE
BEGIN:VEVENT
DTSTART;TZID=America/Los_Angeles:20250716T110000
DTEND;TZID=America/Los_Angeles:20250716T140000
DTSTAMP:20260424T012635
CREATED:20250514T023343Z
LAST-MODIFIED:20250514T023343Z
UID:70118-1752663600-1752674400@svec.org
SUMMARY:Pixar and "RenderMan"
DESCRIPTION:Join your fellow IEEE OEB-LMAG members for lunch\, and an opportunity to hear about Pixar from Dan McCoy\, a key technical contributor to Pixar’s award-winning software “RenderMan”\, as well as many of its blockbuster movies. Dan will talk about Pixar and the technology it uses to develop its 3D Animated movies.\nThis is a chance to hear about how Pixar has changed the way that 3D animated movies\, and all movies with 3D special effects\, are made.\nIt is also a great chance to make new friends and socialize with other IEEE members and guests.\nSpeaker(s): Dan McCoy\, Dan\nAgenda:\nPresentation and lunch. Bufett or order from menu depending upon the number of registrants. Member fee is subsidized.\nBldg: Golf course restaurant\, not pro shop\, Beeb's Sports Bar and Grill\, 915 Club House Drive\, Livermore\, California\, United States\, 94551
URL:https://svec.org/event/pixar-and-renderman/
LOCATION:Bldg: Golf course restaurant\, not pro shop\, Beeb's Sports Bar and Grill\, 915 Club House Drive\, Livermore\, California\, United States\, 94551
END:VEVENT
BEGIN:VEVENT
DTSTART;TZID=-07:00:20250716T190000
DTEND;TZID=-07:00:20250716T210000
DTSTAMP:20260424T012635
CREATED:20250421T141830Z
LAST-MODIFIED:20250421T141830Z
UID:68924-1752692400-1752699600@svec.org
SUMMARY:In-Memory Computing SoC with Multi-level RRAM to Accelerate AI Inference
DESCRIPTION:LOCATION ADDRESS (Hybrid\, in person or by zoom\, you choose)\nValley Research Park\n319 North Bernardo Avenue\nMountain View\, CA CA 93043\nIf you want to join remotely\, you can submit questions via Zoom Q&A. The zoom link:\nhttps://acm-org.zoom.us/\nJoin via YouTube:\nhttps://youtube.com/live/\nAGENDA \n6:30 Door opens\, food and networking (we invite honor system contributions)\n**7:00** SFBayACM upcoming events\, introduce the speaker\n7:15 speaker presentation starts\n8:15 – 8:30 finish\, depending on Q&A \nJoin SF Bay ACM Chapter for an insightful discussion on: \nAbstract\nTetraMem will introduce its multi-level RRAM cell for in-memory computing. The talk will explain how TetraMem uses Multi-level RRAM to accelerate neural network inference applications. The speaker will demonstrate how TetraMem leverages its unique technology and expertise to increase precision\, accuracy and energy efficiency of AI applications\, including our methods to improve cell performance as recently published in Nature and Science. \nBio\nWenbo Yin is the SVP of IC Design at TetraMem. He joined the company in 2019 and currently leads the chip design efforts at TetraMem including mixed-signal circuit design and NPU architecture.\n[https://tetramem.ai/](https://tetramem.ai/)\n— \nValley Research Park is a coworking research campus of 104\,000 square feet hosting 60+ life science and technology companies. VRP has over 100 dry labs\, wet labs\, and high power labs sized from 125-15\,000 square feet. VRP manages all of the traditional office elements: break rooms\, conference rooms\, outdoor dining spaces\, and recreational spaces. \nAs a plug-and-play lab space\, once companies have secured their next milestone and are ready to expand\, VRP has 100+ labs ready to expand into.\nhttps://www.valleyresearchpark.com/
URL:https://svec.org/event/in-memory-computing-soc-with-multi-level-rram-to-accelerate-ai-inference/
LOCATION:Valley Research Park\, 319 N Bernardo Ave\, Mountain View\, CA\, 94043\, United States
ATTACH;FMTTYPE=image/jpeg:https://svec.org/wp-content/uploads/2025/04/1024x576-sM6Hae.jpg
END:VEVENT
END:VCALENDAR