BEGIN:VCALENDAR
VERSION:2.0
PRODID:-//Silicon Valley Engineering Council - ECPv6.15.20//NONSGML v1.0//EN
CALSCALE:GREGORIAN
METHOD:PUBLISH
X-WR-CALNAME:Silicon Valley Engineering Council
X-ORIGINAL-URL:https://svec.org
X-WR-CALDESC:Events for Silicon Valley Engineering Council
REFRESH-INTERVAL;VALUE=DURATION:PT1H
X-Robots-Tag:noindex
X-PUBLISHED-TTL:PT1H
BEGIN:VTIMEZONE
TZID:-07:00
END:VTIMEZONE
BEGIN:VEVENT
DTSTART;TZID=-07:00:20250721T184500
DTEND;TZID=-07:00:20250721T204500
DTSTAMP:20260422T022758
CREATED:20250612T151849Z
LAST-MODIFIED:20250612T151849Z
UID:75941-1753123500-1753130700@svec.org
SUMMARY:A Copilot for Social Promotion
DESCRIPTION:LOCATION ADDRESS (Hybrid\, in person or by zoom\, you choose)\nValley Research Park\n319 North Bernardo Avenue\nMountain View\, CA CA 93043\nIf you want to join remotely\, you can submit questions via Zoom Q&A. \n* The zoom link:\n* [https://acm-org.zoom.us/](https://acm-org.zoom.us/)\n* Join via YouTube:\n* [https://youtube.com/live/](https://youtube.com/live/) \nAGENDA\n6:30 Door opens\, food and networking (we invite honor system contributions)\n**7:00** SFBayACM upcoming events\, introduce the speaker\n7:15 speaker presentation starts\n8:15 – 8:30 finish\, depending on Q&A\nJoin SF Bay ACM Chapter for an insightful discussion on: \n**Talk Description**:\nThe Social Promotion Copilot (SPC) is designed to autonomously engage with users on social platforms\, leveraging advanced NLP and action-oriented automation. This chapter delves into its architectural foundation\, focusing on the integration of Theory of Mind to enhance SPC’s ability to interpret user emotions\, predict reactions\, and tailor responses dynamically. By modeling mental states\, SPC can distinguish between different user intents\, such as seeking support\, expressing dissatisfaction\, or driving discussions. This capability enables more context-aware and persuasive interactions\, making SPC a more effective tool for both social engagement and marketing strategies. \nBeyond cognitive modeling\, the chapter also examines the run-time execution framework\, detailing how SPC processes textual tasks in real-time. The system selects optimal actions based on multi-modal inputs\, including textual context\, sentiment analysis\, and platform-specific engagement patterns. Through a structured decision-making pipeline\, SPC adapts its posting and response strategies to maximize visibility and interaction. By balancing automation with adaptive intelligence\, SPC transforms from a simple content-promotion tool into an autonomous social agent\, capable of managing long-term engagement and fostering meaningful digital interactions\, which is confirmed by evaluation on social network sites. \n**Speaker Bio**:\nProf. Boris Galitsky has contributed linguistic and machine learning technologies to Silicon Valley startups as well as companies like eBay and Oracle for over 25 years. His information extraction and sentiment\nanalysis techniques assisted several acquisitions\, such as Xoopit by Yahoo\, Uptake by Groupon\, Loglogic by Tibco\, and Zvents by eBay. His security-related technologies of document analysis contributed to the acquisition of Elastica by Semantec. \nAs an architect of the Intelligent Bots project at Oracle\, he developed a discourse analysis technique used for dialogue management and published in the book Developing Enterprise Chatbots. He also published a two-volume monograph\, “AI for CRM”\, based on his experience developing Oracle Digital Assistant. He is an Apache committer to OpenNLP\, where he created OpenNLP. Similarity component\, which is a basis for a semantically enriched search engine and chatbot development. \nHis exploration and formalization of human reasoning culminated in the book AQ1 Computational Autism broadly used by parents of children with autism spectrum disorder and rehabilitation personnel. His\nfocus on the medical domain led to another research monograph\, “Artificial Intelligence for Healthcare Applications and Management”. He is a now a professor at Stavropol Agricultural University. \nhttps://www.linkedin.com/in/boris-galitsky-342109204/
URL:https://svec.org/event/a-copilot-for-social-promotion/
LOCATION:Valley Research Park\, 319 N Bernardo Ave\, Mountain View\, CA\, 94043\, United States
ATTACH;FMTTYPE=image/jpeg:https://svec.org/wp-content/uploads/2025/06/1024x576-ChRz7O.jpg
END:VEVENT
END:VCALENDAR