BEGIN:VCALENDAR
VERSION:2.0
PRODID:-//Silicon Valley Engineering Council - ECPv6.15.20//NONSGML v1.0//EN
CALSCALE:GREGORIAN
METHOD:PUBLISH
X-ORIGINAL-URL:https://svec.org
X-WR-CALDESC:Events for Silicon Valley Engineering Council
REFRESH-INTERVAL;VALUE=DURATION:PT1H
X-Robots-Tag:noindex
X-PUBLISHED-TTL:PT1H
BEGIN:VTIMEZONE
TZID:America/Los_Angeles
BEGIN:DAYLIGHT
TZOFFSETFROM:-0800
TZOFFSETTO:-0700
TZNAME:PDT
DTSTART:20240310T100000
END:DAYLIGHT
BEGIN:STANDARD
TZOFFSETFROM:-0700
TZOFFSETTO:-0800
TZNAME:PST
DTSTART:20241103T090000
END:STANDARD
BEGIN:DAYLIGHT
TZOFFSETFROM:-0800
TZOFFSETTO:-0700
TZNAME:PDT
DTSTART:20250309T100000
END:DAYLIGHT
BEGIN:STANDARD
TZOFFSETFROM:-0700
TZOFFSETTO:-0800
TZNAME:PST
DTSTART:20251102T090000
END:STANDARD
BEGIN:DAYLIGHT
TZOFFSETFROM:-0800
TZOFFSETTO:-0700
TZNAME:PDT
DTSTART:20260308T100000
END:DAYLIGHT
BEGIN:STANDARD
TZOFFSETFROM:-0700
TZOFFSETTO:-0800
TZNAME:PST
DTSTART:20261101T090000
END:STANDARD
END:VTIMEZONE
BEGIN:VEVENT
DTSTART;TZID=America/Los_Angeles:20250903T080000
DTEND;TZID=America/Los_Angeles:20250903T130000
DTSTAMP:20260422T084357
CREATED:20250803T094834Z
LAST-MODIFIED:20250803T094834Z
UID:76813-1756886400-1756904400@svec.org
SUMMARY:International Symposium on Computational Intelligence (ISCI) 2025 - Ethical AI
DESCRIPTION:Join us for the International Symposium on Computational Intelligence (ISCI) 2025\, a premier virtual half-day event dedicated to advancing the field of Ethical AI. This symposium brings together leading researchers\, practitioners\, and thought leaders to explore cutting-edge developments in trustworthy\, explainable\, and responsible artificial intelligence.\nWhat to Expect\n– Expert Presentations – 30-45 minute talks from internationally recognized speakers\n– Interactive Q&A Sessions – 15-minute discussion periods following each presentation\n– Global Perspective – Speakers from India\, UK\, North America\, and beyond\n– Live Streaming – Real-time access via YouTube with archived sessions on IEEE.tv\n—————————————————————\nStay tuned for updates on our distinguished speaker lineup.\nSpeaker(s): Dr. Ann Blandford\,\nVirtual: https://events.vtools.ieee.org/m/495321
URL:https://svec.org/event/international-symposium-on-computational-intelligence-isci-2025-ethical-ai/
LOCATION:Virtual: https://events.vtools.ieee.org/m/495321
END:VEVENT
END:VCALENDAR