BEGIN:VCALENDAR
VERSION:2.0
PRODID:-//Silicon Valley Engineering Council - ECPv6.15.20//NONSGML v1.0//EN
CALSCALE:GREGORIAN
METHOD:PUBLISH
X-WR-CALNAME:Silicon Valley Engineering Council
X-ORIGINAL-URL:https://svec.org
X-WR-CALDESC:Events for Silicon Valley Engineering Council
REFRESH-INTERVAL;VALUE=DURATION:PT1H
X-Robots-Tag:noindex
X-PUBLISHED-TTL:PT1H
BEGIN:VTIMEZONE
TZID:America/Los_Angeles
BEGIN:DAYLIGHT
TZOFFSETFROM:-0800
TZOFFSETTO:-0700
TZNAME:PDT
DTSTART:20240310T100000
END:DAYLIGHT
BEGIN:STANDARD
TZOFFSETFROM:-0700
TZOFFSETTO:-0800
TZNAME:PST
DTSTART:20241103T090000
END:STANDARD
BEGIN:DAYLIGHT
TZOFFSETFROM:-0800
TZOFFSETTO:-0700
TZNAME:PDT
DTSTART:20250309T100000
END:DAYLIGHT
BEGIN:STANDARD
TZOFFSETFROM:-0700
TZOFFSETTO:-0800
TZNAME:PST
DTSTART:20251102T090000
END:STANDARD
BEGIN:DAYLIGHT
TZOFFSETFROM:-0800
TZOFFSETTO:-0700
TZNAME:PDT
DTSTART:20260308T100000
END:DAYLIGHT
BEGIN:STANDARD
TZOFFSETFROM:-0700
TZOFFSETTO:-0800
TZNAME:PST
DTSTART:20261101T090000
END:STANDARD
END:VTIMEZONE
BEGIN:VEVENT
DTSTART;TZID=America/Los_Angeles:20251107T114500
DTEND;TZID=America/Los_Angeles:20251107T131500
DTSTAMP:20260424T011725
CREATED:20250924T110348Z
LAST-MODIFIED:20250924T110348Z
UID:77146-1762515900-1762521300@svec.org
SUMMARY:From Mg to Be: Rethinking P-Type Doping Strategies in Wide-Bandgap III-Nitrides
DESCRIPTION:Achieving efficient p-type doping in gallium nitride (GaN) and its alloys remains one of the most critical challenges in realizing the full potential of III-nitride semiconductors for high-power electronics\, deep-ultraviolet (DUV) optoelectronics\, and quantum information technologies. While magnesium is the conventional acceptor dopant\, its high ionization energy (≈0.22 eV in GaN and up to 0.6 eV in AlN) limits hole concentrations to below ~1% activation efficiency\, constraining device performance.\nOur recent work explores beryllium as an alternative acceptor in (Al\,Ga)N\, leveraging metal-organic chemical vapor deposition (MOCVD) to achieve high-quality\, low-defect epitaxial growth. Through extensive photoluminescence and time-resolved spectroscopy studies of over fifty MOCVD grown Be-doped GaN samples\, we identified the UVLBe ​ band at ~3.38 eV as a signature of a shallow Be-related acceptor with an ionization energy of ~113–114 meV — significantly shallower than Mg in GaN. Complementary theoretical studies support the assignment of this shallow state to the BeGa​ONBeGa​ complex\, suggesting a pathway toward achieving p-type conductivity in AlGaN and even AlN alloys.\nIn recent limited MOCVD growth studies on co-doping with oxygen and Be\, we have observed preliminary indications that oxygen incorporation can enhance the signature of the shallow Be acceptor\, though further work is needed to fully establish the efficacy and stability of this co-doping strategy.\nThese results provide new insight into the nature of Be-related defects in GaN and AlGaN\, and they highlight co-doping pathways as a promising route to overcome the long-standing bottleneck of achieving high hole concentrations.\nWhen: Friday\, November 7th\, 2025 – 11:45AM to 1PM (PDT)\n11:45AM – 12PM: Intro\n12PM-12:45PM: Lecture\n12:45PM-12:55PM: Q&A\n1PM Adjourn\nBio:\nDr. F. Shadi Shahedipour-Sandvik is a Professor of Engineering at the State University of New York\, where she leads research on wide bandgap III-nitride semiconductor materials and devices for applications in lighting\, power electronics\, sensing\, and quantum information science. Her work spans two decades of innovation and pioneering work in (Al\,In) GaN materials and device engineering\, with contributions ranging from high-efficiency p-type doping techniques and defect engineering and characterization to novel photocathodes and betavoltaic devices. She has authored nearly 200 publications and delivered invited talks worldwide on growth\, characterization\, device physics with applications in emitters\, power electronics\, and detectors.\nShahedipour-Sandvik lab has been continuously funded by a variety of sources including NSF\, ARL/ARO\, DARPA\, DOE\, ARPA-E\, NASA\, and by industry.\nShe has advised more than a dozen Ph.D. students\, many of whom now hold technical leadership positions in national labs\, and industry.\nShe served as Editor-in-Chief of the Journal of Electronic Materials (2015–2024) and has been recognized with the SUNY Excellence in Research Award and the IBM Faculty Award\, among other honors.\nVirtual: https://events.vtools.ieee.org/m/502836
URL:https://svec.org/event/from-mg-to-be-rethinking-p-type-doping-strategies-in-wide-bandgap-iii-nitrides/
LOCATION:Virtual: https://events.vtools.ieee.org/m/502836
END:VEVENT
END:VCALENDAR