BEGIN:VCALENDAR
VERSION:2.0
PRODID:-//Silicon Valley Engineering Council - ECPv6.15.20//NONSGML v1.0//EN
CALSCALE:GREGORIAN
METHOD:PUBLISH
X-ORIGINAL-URL:https://svec.org
X-WR-CALDESC:Events for Silicon Valley Engineering Council
REFRESH-INTERVAL;VALUE=DURATION:PT1H
X-Robots-Tag:noindex
X-PUBLISHED-TTL:PT1H
BEGIN:VTIMEZONE
TZID:America/Los_Angeles
BEGIN:DAYLIGHT
TZOFFSETFROM:-0800
TZOFFSETTO:-0700
TZNAME:PDT
DTSTART:20240310T100000
END:DAYLIGHT
BEGIN:STANDARD
TZOFFSETFROM:-0700
TZOFFSETTO:-0800
TZNAME:PST
DTSTART:20241103T090000
END:STANDARD
BEGIN:DAYLIGHT
TZOFFSETFROM:-0800
TZOFFSETTO:-0700
TZNAME:PDT
DTSTART:20250309T100000
END:DAYLIGHT
BEGIN:STANDARD
TZOFFSETFROM:-0700
TZOFFSETTO:-0800
TZNAME:PST
DTSTART:20251102T090000
END:STANDARD
BEGIN:DAYLIGHT
TZOFFSETFROM:-0800
TZOFFSETTO:-0700
TZNAME:PDT
DTSTART:20260308T100000
END:DAYLIGHT
BEGIN:STANDARD
TZOFFSETFROM:-0700
TZOFFSETTO:-0800
TZNAME:PST
DTSTART:20261101T090000
END:STANDARD
END:VTIMEZONE
BEGIN:VEVENT
DTSTART;TZID=America/Los_Angeles:20251118T173000
DTEND;TZID=America/Los_Angeles:20251118T203000
DTSTAMP:20260422T083104
CREATED:20251013T235520Z
LAST-MODIFIED:20251014T002612Z
UID:77224-1763487000-1763497800@svec.org
SUMMARY:2025 SVEC Open House  - "New Pathways to Improve Healthcare"
DESCRIPTION:Silicon Valley Engineering Council’s annual Open House features networking with refreshments and a Biotech panel discussion\, including engineering’s role in healthcare futures.\n\nThe population in the United States and many Western countries is aging. The cost for developing and using healthcare is rising so much that one wonders if it is sustainable. New ways of thinking are needed for development. Engineers and scientists play a critical role in these fields. Learn from these biotech leaders how their companies are charting new pathways to improve health and healthcare in the future.\n\n\nSPEAKERS\nChristin Glorioso\, CEO & Co-Founder\, NeuroAge Therapeutics\nChristin Glorioso\, MD\, Ph.D.\, is the CEO and Cofounder of NeuroAge Therapeutics and the Founder and Executive Director of Longevity Global. She is an Epidemiologist\, Physician-Scientist\, and Serial Entrepreneur with expertise in Neuroscience\, AI\, and Computational Modeling.\n\nLesley Telford\, QA Manager\, TauTona Group\nLesley Telford has focused her career on engineering in the healthcare field. Beginning at Abbott Vascular\, after earning a BS in Biomedical Engineering from Cal Poly\, San Luis Obispo\, she joined TauTona Group  in Redwood City over eight years ago. She is currently the Quality Assurance Manager for this biotech incubator. Telford is an active member of the Society of Women Engineers (SWE)\, serving as a leader both locally and internationally\, and was recognized by SWE as an Outstanding Collegiate Member in 2010.\n\nDATE: November 8\, 2025 – 5:30 – 8:30PM\n\nAGENDA\n5:30 – 6:45  Networking & Snacking\n6:45 – 7:00  Introductions of SVEC\n7:00 – 8:30  Panel\n\nLOCATION: Eurofins EAG – 810 Kiefer Rd.\, Sunnyvale\n\nThe Open House event is offers a great opportunity to recognize our member organizations and promote their programs and events\, This event features the speakers panel and offers refreshments with networking time for attendees to meet other Silicon Valley engineers.\n\nREGISTRATION: luma.com/SVECOpenHouse
URL:https://svec.org/event/2025-svec-open-house-new-pathways-to-improve-healthcare/
LOCATION:Eurofins/EAG\, 810 Kifer Rd.\, Sunnyvale\, CA\, 94086\, United States
ORGANIZER;CN="Silicon Valley Engineering Council (SVEC)":MAILTO:info@svec.org
END:VEVENT
END:VCALENDAR