BEGIN:VCALENDAR
VERSION:2.0
PRODID:-//Silicon Valley Engineering Council - ECPv6.15.20//NONSGML v1.0//EN
CALSCALE:GREGORIAN
METHOD:PUBLISH
X-WR-CALNAME:Silicon Valley Engineering Council
X-ORIGINAL-URL:https://svec.org
X-WR-CALDESC:Events for Silicon Valley Engineering Council
REFRESH-INTERVAL;VALUE=DURATION:PT1H
X-Robots-Tag:noindex
X-PUBLISHED-TTL:PT1H
BEGIN:VTIMEZONE
TZID:America/Los_Angeles
BEGIN:DAYLIGHT
TZOFFSETFROM:-0800
TZOFFSETTO:-0700
TZNAME:PDT
DTSTART:20240310T100000
END:DAYLIGHT
BEGIN:STANDARD
TZOFFSETFROM:-0700
TZOFFSETTO:-0800
TZNAME:PST
DTSTART:20241103T090000
END:STANDARD
BEGIN:DAYLIGHT
TZOFFSETFROM:-0800
TZOFFSETTO:-0700
TZNAME:PDT
DTSTART:20250309T100000
END:DAYLIGHT
BEGIN:STANDARD
TZOFFSETFROM:-0700
TZOFFSETTO:-0800
TZNAME:PST
DTSTART:20251102T090000
END:STANDARD
BEGIN:DAYLIGHT
TZOFFSETFROM:-0800
TZOFFSETTO:-0700
TZNAME:PDT
DTSTART:20260308T100000
END:DAYLIGHT
BEGIN:STANDARD
TZOFFSETFROM:-0700
TZOFFSETTO:-0800
TZNAME:PST
DTSTART:20261101T090000
END:STANDARD
END:VTIMEZONE
BEGIN:VEVENT
DTSTART;TZID=America/Los_Angeles:20251120T073000
DTEND;TZID=America/Los_Angeles:20251121T170000
DTSTAMP:20260422T083242
CREATED:20250805T094840Z
LAST-MODIFIED:20250805T094840Z
UID:76825-1763623800-1763744400@svec.org
SUMMARY:IEEE Symposium on Reliability for Electronics and Photonics Packaging
DESCRIPTION:[]\nThis symposium will focus on quantified reliability\, accelerated testing and probabilistic assessments of the useful lifetime of electronic\, photonic\, MEMS and MOEMS materials\, assemblies\, packages and systems in electronics and photonics packaging. This includes failure modes\, mechanisms\, testing schemes\, accelerated testing\, stress levels\, and environmental stresses.\nVisit our website for details\, for our Advance Program\, and to register. https://attend.ieee.org/repp.\nMilpitas\, California\, United States\, Virtual: https://events.vtools.ieee.org/m/495693
URL:https://svec.org/event/ieee-symposium-on-reliability-for-electronics-and-photonics-packaging/
LOCATION:Milpitas\, California\, United States\, Virtual: https://events.vtools.ieee.org/m/495693
END:VEVENT
END:VCALENDAR