BEGIN:VCALENDAR
VERSION:2.0
PRODID:-//Silicon Valley Engineering Council - ECPv6.15.20//NONSGML v1.0//EN
CALSCALE:GREGORIAN
METHOD:PUBLISH
X-ORIGINAL-URL:https://svec.org
X-WR-CALDESC:Events for Silicon Valley Engineering Council
REFRESH-INTERVAL;VALUE=DURATION:PT1H
X-Robots-Tag:noindex
X-PUBLISHED-TTL:PT1H
BEGIN:VTIMEZONE
TZID:America/New_York
BEGIN:DAYLIGHT
TZOFFSETFROM:-0500
TZOFFSETTO:-0400
TZNAME:EDT
DTSTART:20240310T070000
END:DAYLIGHT
BEGIN:STANDARD
TZOFFSETFROM:-0400
TZOFFSETTO:-0500
TZNAME:EST
DTSTART:20241103T060000
END:STANDARD
BEGIN:DAYLIGHT
TZOFFSETFROM:-0500
TZOFFSETTO:-0400
TZNAME:EDT
DTSTART:20250309T070000
END:DAYLIGHT
BEGIN:STANDARD
TZOFFSETFROM:-0400
TZOFFSETTO:-0500
TZNAME:EST
DTSTART:20251102T060000
END:STANDARD
BEGIN:DAYLIGHT
TZOFFSETFROM:-0500
TZOFFSETTO:-0400
TZNAME:EDT
DTSTART:20260308T070000
END:DAYLIGHT
BEGIN:STANDARD
TZOFFSETFROM:-0400
TZOFFSETTO:-0500
TZNAME:EST
DTSTART:20261101T060000
END:STANDARD
END:VTIMEZONE
BEGIN:VEVENT
DTSTART;TZID=America/New_York:20251220T100000
DTEND;TZID=America/New_York:20251220T110000
DTSTAMP:20260422T070431
CREATED:20251215T154812Z
LAST-MODIFIED:20251215T154812Z
UID:77497-1766224800-1766228400@svec.org
SUMMARY:What Needs to Be in Place Before AI: Lessons from Large-Scale Insurance Platforms
DESCRIPTION:Artificial intelligence can only create real value when the underlying data\, architecture\, and governance are ready for it. In this talk\, as a system architect I will share practical lessons from experience of designing and leading large-scale insurance platforms at three startup insurance companies\, including quoting engines\, carrier integrations\, and cloud-native lead acquisition systems. Drawing on two decades of experience in insurance technology\, I will outline four key prerequisites for successful AI adoption in regulated industries: solid data foundations\, modular and API-driven architectures\, strong security and compliance practices\, and cross-functional teams and processes. The session is aimed at students\, engineers\, AI practitioners\, and business leaders who want a clear\, real-world view of how to prepare complex systems for AI at scale.\nSpeaker(s): Malar Kondappan\nVirtual: https://events.vtools.ieee.org/m/522134
URL:https://svec.org/event/what-needs-to-be-in-place-before-ai-lessons-from-large-scale-insurance-platforms/
LOCATION:Virtual: https://events.vtools.ieee.org/m/522134
END:VEVENT
END:VCALENDAR