BEGIN:VCALENDAR
VERSION:2.0
PRODID:-//Silicon Valley Engineering Council - ECPv6.15.20//NONSGML v1.0//EN
CALSCALE:GREGORIAN
METHOD:PUBLISH
X-WR-CALNAME:Silicon Valley Engineering Council
X-ORIGINAL-URL:https://svec.org
X-WR-CALDESC:Events for Silicon Valley Engineering Council
REFRESH-INTERVAL;VALUE=DURATION:PT1H
X-Robots-Tag:noindex
X-PUBLISHED-TTL:PT1H
BEGIN:VTIMEZONE
TZID:America/Los_Angeles
BEGIN:DAYLIGHT
TZOFFSETFROM:-0800
TZOFFSETTO:-0700
TZNAME:PDT
DTSTART:20240310T100000
END:DAYLIGHT
BEGIN:STANDARD
TZOFFSETFROM:-0700
TZOFFSETTO:-0800
TZNAME:PST
DTSTART:20241103T090000
END:STANDARD
BEGIN:DAYLIGHT
TZOFFSETFROM:-0800
TZOFFSETTO:-0700
TZNAME:PDT
DTSTART:20250309T100000
END:DAYLIGHT
BEGIN:STANDARD
TZOFFSETFROM:-0700
TZOFFSETTO:-0800
TZNAME:PST
DTSTART:20251102T090000
END:STANDARD
BEGIN:DAYLIGHT
TZOFFSETFROM:-0800
TZOFFSETTO:-0700
TZNAME:PDT
DTSTART:20260308T100000
END:DAYLIGHT
BEGIN:STANDARD
TZOFFSETFROM:-0700
TZOFFSETTO:-0800
TZNAME:PST
DTSTART:20261101T090000
END:STANDARD
END:VTIMEZONE
BEGIN:VEVENT
DTSTART;TZID=America/Los_Angeles:20251229T180000
DTEND;TZID=America/Los_Angeles:20251229T193000
DTSTAMP:20260420T075424
CREATED:20251210T151814Z
LAST-MODIFIED:20251210T151814Z
UID:77478-1767031200-1767036600@svec.org
SUMMARY:Digital Money and Payments 2025: Stablecoins\, CBDCs\, Tokenized Deposits After the GENIUS Act\, and IEEE Blockchain Volunteering
DESCRIPTION:[]In 2025\, the landscape of digital money is shifting rapidly as the GENIUS Act establishes a federal framework for payment stablecoins while U.S. CBDC efforts pause and other regions move ahead with their own digital currency projects. This event will provide a clear overview of how stablecoins\, CBDCs\, tokenized deposits\, and new payment rails are evolving in the U.S. and globally\, and what that means for technology and finance professionals. It will conclude with a session on how volunteering within the IEEE Blockchain Technical Community creates opportunities to build leadership\, grow networks across industry and academia\, and contribute to impactful work in the blockchain ecosystem.\nSpeaker(s): Marc Lijour\, Revanth Airre\,\nVirtual: https://events.vtools.ieee.org/m/521039
URL:https://svec.org/event/digital-money-and-payments-2025-stablecoins-cbdcs-tokenized-deposits-after-the-genius-act-and-ieee-blockchain-volunteering/
LOCATION:Virtual: https://events.vtools.ieee.org/m/521039
END:VEVENT
END:VCALENDAR