BEGIN:VCALENDAR
VERSION:2.0
PRODID:-//Silicon Valley Engineering Council - ECPv6.15.20//NONSGML v1.0//EN
CALSCALE:GREGORIAN
METHOD:PUBLISH
X-ORIGINAL-URL:https://svec.org
X-WR-CALDESC:Events for Silicon Valley Engineering Council
REFRESH-INTERVAL;VALUE=DURATION:PT1H
X-Robots-Tag:noindex
X-PUBLISHED-TTL:PT1H
BEGIN:VTIMEZONE
TZID:America/Los_Angeles
BEGIN:DAYLIGHT
TZOFFSETFROM:-0800
TZOFFSETTO:-0700
TZNAME:PDT
DTSTART:20250309T100000
END:DAYLIGHT
BEGIN:STANDARD
TZOFFSETFROM:-0700
TZOFFSETTO:-0800
TZNAME:PST
DTSTART:20251102T090000
END:STANDARD
BEGIN:DAYLIGHT
TZOFFSETFROM:-0800
TZOFFSETTO:-0700
TZNAME:PDT
DTSTART:20260308T100000
END:DAYLIGHT
BEGIN:STANDARD
TZOFFSETFROM:-0700
TZOFFSETTO:-0800
TZNAME:PST
DTSTART:20261101T090000
END:STANDARD
BEGIN:DAYLIGHT
TZOFFSETFROM:-0800
TZOFFSETTO:-0700
TZNAME:PDT
DTSTART:20270314T100000
END:DAYLIGHT
BEGIN:STANDARD
TZOFFSETFROM:-0700
TZOFFSETTO:-0800
TZNAME:PST
DTSTART:20271107T090000
END:STANDARD
END:VTIMEZONE
BEGIN:VEVENT
DTSTART;TZID=America/Los_Angeles:20260115T173000
DTEND;TZID=America/Los_Angeles:20260115T203000
DTSTAMP:20260422T053355
CREATED:20251105T133319Z
LAST-MODIFIED:20251105T133319Z
UID:77367-1768498200-1768509000@svec.org
SUMMARY:Short-Circuit Current Ratings\, Interrupting Ratings\, and the Intersection of UL 508A and the NEC
DESCRIPTION:Short-circuit current ratings (SCCR) and interrupting ratings form the backbone of electrical safety\, coordination\, and compliance in modern power systems. This presentation explores how UL 508A Supplement SB intersects with the National Electrical Code (NEC) to define the limits of what electrical equipment can safely withstand and interrupt under fault conditions.\nThe presentation examines how UL product listings and component ratings interact with NEC Articles 409\, 110.9\, and 110.10\, clarifying how available fault current\, protective device selection\, and equipment labeling all converge in practice. Real-world examples will illustrate how engineers can properly determine SCCR\, verify interrupting ratings\, and ensure that the overall system meets both code and product standard intent.\nKey Topics\n– Fundamentals of SCCR and interrupting ratings\n– Relationship between UL 508A Supplement SB and NEC Articles 409\, 110.9\, and 110.10\n– Evaluating equipment for compliance and labeling accuracy\n– Case studies from industrial and institutional systems\nSpeaker(s): Tyler Shewbert\,\nAgenda:\nNo-host social at 5:30pm\nPresentation at 6:00pm\nDinner at 7:00pm\nPresentation continues at 7:45pm\nAdjourn by 8:30pm\nZio Fraedo's\, 611 Gregory Lane\, Pleasant Hill\, California\, United States\, 94523
URL:https://svec.org/event/short-circuit-current-ratings-interrupting-ratings-and-the-intersection-of-ul-508a-and-the-nec/
LOCATION:Zio Fraedo's\, 611 Gregory Lane\, Pleasant Hill\, California\, United States\, 94523
END:VEVENT
END:VCALENDAR