BEGIN:VCALENDAR
VERSION:2.0
PRODID:-//Silicon Valley Engineering Council - ECPv6.15.20//NONSGML v1.0//EN
CALSCALE:GREGORIAN
METHOD:PUBLISH
X-ORIGINAL-URL:https://svec.org
X-WR-CALDESC:Events for Silicon Valley Engineering Council
REFRESH-INTERVAL;VALUE=DURATION:PT1H
X-Robots-Tag:noindex
X-PUBLISHED-TTL:PT1H
BEGIN:VTIMEZONE
TZID:America/Los_Angeles
BEGIN:DAYLIGHT
TZOFFSETFROM:-0800
TZOFFSETTO:-0700
TZNAME:PDT
DTSTART:20250309T100000
END:DAYLIGHT
BEGIN:STANDARD
TZOFFSETFROM:-0700
TZOFFSETTO:-0800
TZNAME:PST
DTSTART:20251102T090000
END:STANDARD
BEGIN:DAYLIGHT
TZOFFSETFROM:-0800
TZOFFSETTO:-0700
TZNAME:PDT
DTSTART:20260308T100000
END:DAYLIGHT
BEGIN:STANDARD
TZOFFSETFROM:-0700
TZOFFSETTO:-0800
TZNAME:PST
DTSTART:20261101T090000
END:STANDARD
BEGIN:DAYLIGHT
TZOFFSETFROM:-0800
TZOFFSETTO:-0700
TZNAME:PDT
DTSTART:20270314T100000
END:DAYLIGHT
BEGIN:STANDARD
TZOFFSETFROM:-0700
TZOFFSETTO:-0800
TZNAME:PST
DTSTART:20271107T090000
END:STANDARD
END:VTIMEZONE
BEGIN:VTIMEZONE
TZID:America/New_York
BEGIN:DAYLIGHT
TZOFFSETFROM:-0500
TZOFFSETTO:-0400
TZNAME:EDT
DTSTART:20250309T070000
END:DAYLIGHT
BEGIN:STANDARD
TZOFFSETFROM:-0400
TZOFFSETTO:-0500
TZNAME:EST
DTSTART:20251102T060000
END:STANDARD
BEGIN:DAYLIGHT
TZOFFSETFROM:-0500
TZOFFSETTO:-0400
TZNAME:EDT
DTSTART:20260308T070000
END:DAYLIGHT
BEGIN:STANDARD
TZOFFSETFROM:-0400
TZOFFSETTO:-0500
TZNAME:EST
DTSTART:20261101T060000
END:STANDARD
BEGIN:DAYLIGHT
TZOFFSETFROM:-0500
TZOFFSETTO:-0400
TZNAME:EDT
DTSTART:20270314T070000
END:DAYLIGHT
BEGIN:STANDARD
TZOFFSETFROM:-0400
TZOFFSETTO:-0500
TZNAME:EST
DTSTART:20271107T060000
END:STANDARD
END:VTIMEZONE
BEGIN:VEVENT
DTSTART;TZID=America/Los_Angeles:20260204T185000
DTEND;TZID=America/Los_Angeles:20260204T200000
DTSTAMP:20260422T040332
CREATED:20260127T180307Z
LAST-MODIFIED:20260127T180307Z
UID:77657-1770231000-1770235200@svec.org
SUMMARY:Healthcare\, Wellness and Wearables: Enabling Personalized Care
DESCRIPTION:Over the recent years we have seen a dramatic increase in the development and use of wearable devices of various kinds. This trend is expected to continue\, and many forecasts show a significant increase in the use of wearable technologies for healthcare and wellness applications. In this presentation\, we will look at the motivating factors behind these trends and look at some examples of wearable devices that provides vital sign and biomarker monitoring\, and for general health and wellness monitoring which will be at the center of delivering personalized care.\nSpeaker(s): Bharath Rajagopalan\nVirtual: https://events.vtools.ieee.org/m/534687
URL:https://svec.org/event/healthcare-wellness-and-wearables-enabling-personalized-care/
LOCATION:Virtual: https://events.vtools.ieee.org/m/534687
END:VEVENT
BEGIN:VEVENT
DTSTART;TZID=America/New_York:20260204T200000
DTEND;TZID=America/New_York:20260204T210000
DTSTAMP:20260422T040332
CREATED:20260118T174817Z
LAST-MODIFIED:20260118T174817Z
UID:77626-1770235200-1770238800@svec.org
SUMMARY:Trillions Spent\, Still Failing: Why IT Needs Human-Centered Thinking
DESCRIPTION:Despite decades of methodological advances and trillions of dollars in global investment\, IT system developments\, operations and modernizations continue to fail at remarkably consistent rates. This talk argues that these failures are not primarily technical\, but systemic\, arising from a persistent neglect of human-centered engineering. Risk increases as software systems grow in complexity. Humans lose insight into their operation\, their ability to control them decreases\, as does the time to react relative to system behavior. Automation\, while reducing routine workload\, often exacerbates this problem by magnifying rare\, but high-consequence failures. AI will exacerbate the inherent automation paradox problem in novel ways. The presentation calls for an honest\, professional reassessment of how we design\, evaluate\, and govern IT systems—treating human cognitive limits as priority engineering constraints rather than afterthoughts.\nSpeaker(s): Robert N. Charette\nVirtual: https://events.vtools.ieee.org/m/531602
URL:https://svec.org/event/trillions-spent-still-failing-why-it-needs-human-centered-thinking/
LOCATION:Virtual: https://events.vtools.ieee.org/m/531602
END:VEVENT
END:VCALENDAR