BEGIN:VCALENDAR
VERSION:2.0
PRODID:-//Silicon Valley Engineering Council - ECPv6.15.20//NONSGML v1.0//EN
CALSCALE:GREGORIAN
METHOD:PUBLISH
X-ORIGINAL-URL:https://svec.org
X-WR-CALDESC:Events for Silicon Valley Engineering Council
REFRESH-INTERVAL;VALUE=DURATION:PT1H
X-Robots-Tag:noindex
X-PUBLISHED-TTL:PT1H
BEGIN:VTIMEZONE
TZID:America/Los_Angeles
BEGIN:DAYLIGHT
TZOFFSETFROM:-0800
TZOFFSETTO:-0700
TZNAME:PDT
DTSTART:20250309T100000
END:DAYLIGHT
BEGIN:STANDARD
TZOFFSETFROM:-0700
TZOFFSETTO:-0800
TZNAME:PST
DTSTART:20251102T090000
END:STANDARD
BEGIN:DAYLIGHT
TZOFFSETFROM:-0800
TZOFFSETTO:-0700
TZNAME:PDT
DTSTART:20260308T100000
END:DAYLIGHT
BEGIN:STANDARD
TZOFFSETFROM:-0700
TZOFFSETTO:-0800
TZNAME:PST
DTSTART:20261101T090000
END:STANDARD
BEGIN:DAYLIGHT
TZOFFSETFROM:-0800
TZOFFSETTO:-0700
TZNAME:PDT
DTSTART:20270314T100000
END:DAYLIGHT
BEGIN:STANDARD
TZOFFSETFROM:-0700
TZOFFSETTO:-0800
TZNAME:PST
DTSTART:20271107T090000
END:STANDARD
END:VTIMEZONE
BEGIN:VEVENT
DTSTART;TZID=America/Los_Angeles:20260205T120000
DTEND;TZID=America/Los_Angeles:20260205T130000
DTSTAMP:20260422T040303
CREATED:20260113T174806Z
LAST-MODIFIED:20260113T174806Z
UID:77613-1770292800-1770296400@svec.org
SUMMARY:From Process to Performance: Challenges in uOLED and uLED Electronics Manufacturing
DESCRIPTION:[]As uOLED and uLED technologies transition from research to high-volume manufacturing\, system performance is increasingly constrained by process variability rather than design intent. Electrical\, thermal\, and mechanical decisions made during manufacturing directly translate into optical non-uniformity\, efficiency loss\, and reliability challenges. Understanding these process-to-performance linkages is critical for building scalable\, high-performance emissive display systems.\nSpeaker(s): Pavan Shivareddy\, \,\nVirtual: https://events.vtools.ieee.org/m/532590
URL:https://svec.org/event/from-process-to-performance-challenges-in-uoled-and-uled-electronics-manufacturing/
LOCATION:Virtual: https://events.vtools.ieee.org/m/532590
END:VEVENT
BEGIN:VEVENT
DTSTART;TZID=America/Los_Angeles:20260205T180000
DTEND;TZID=America/Los_Angeles:20260206T190000
DTSTAMP:20260422T040303
CREATED:20251222T160320Z
LAST-MODIFIED:20251222T160320Z
UID:77536-1770314400-1770404400@svec.org
SUMMARY:2026 VTS Tech Talk: Scalable Data Exchange Between Autonomous Vehicle Fleets and Cloud Infrastructure
DESCRIPTION:Autonomous vehicle fleets generate massive volumes of sensor and operational data that must be reliably transferred to cloud infrastructure to support development\, validation\, and production operations. Designing scalable data exchange mechanisms is challenging due to the large number of vehicles involved\, changing network conditions\, and different requirements on data volume\, latency\, and reliability.\nThis talk presents a system-level view of data exchange between autonomous vehicle fleets and cloud infrastructure. It explains how different data transfer approaches such as physical media\, high-speed wired connections\, and cellular networks are used together to support large-scale fleet operations. The talk also describes how data handling can be adapted per vehicle based on its role and operating mode\, enabling large-volume data uploads\, timely reporting of safety-critical events\, and continuous fleet health monitoring within a unified system. Key challenges related to reliability\, security\, and scaling are discussed\, along with practical lessons learned from operating real-world autonomous driving systems.\nSpeaker(s): Zhaohan\nAgenda:\n6:00-6:50pm Lecture\n6:50-7:00pm Q&A\nVirtual: https://events.vtools.ieee.org/m/522635
URL:https://svec.org/event/2026-vts-tech-talk-scalable-data-exchange-between-autonomous-vehicle-fleets-and-cloud-infrastructure/
LOCATION:Virtual: https://events.vtools.ieee.org/m/522635
END:VEVENT
BEGIN:VEVENT
DTSTART;TZID=America/Los_Angeles:20260205T183000
DTEND;TZID=America/Los_Angeles:20260205T200000
DTSTAMP:20260422T040303
CREATED:20260201T180314Z
LAST-MODIFIED:20260201T180314Z
UID:77680-1770316200-1770321600@svec.org
SUMMARY:Level-Up Your Network: IEEE TEMS In-Person Meetup
DESCRIPTION:Get ready for an unforgettable networking experience at the next IEEE TEMS meeting!\nIf you’re a tech project manager\, specialist\, or professional exploring new opportunities\, this is your chance to connect\, collaborate\, and expand your network – all in person at our familiar University of Santa Clara venue.\nWe’ve made it super easy to join: dinner is just $5\, featuring our classic sandwiches and drinks. Why wait? Come hungry for both food and connections!\nEnjoy a fun\, structured networking session designed to spark conversations and meaningful connections. Plus\, we have a special surprise video presentation on a cutting-edge management topic that you won’t want to miss.\nSeats are limited! Register now – avoid having to pay at the door.\nDon’t miss out – your next connection could be a game-changer!\nRoom: 1308\, Bldg: SCDI\, Santa Clara University\, Santa Clara\, California\, United States
URL:https://svec.org/event/level-up-your-network-ieee-tems-in-person-meetup/
LOCATION:Room\, 192 California Ave\, Santa Cruz\, CA\, United States
END:VEVENT
END:VCALENDAR