BEGIN:VCALENDAR
VERSION:2.0
PRODID:-//Silicon Valley Engineering Council - ECPv6.15.20//NONSGML v1.0//EN
CALSCALE:GREGORIAN
METHOD:PUBLISH
X-WR-CALNAME:Silicon Valley Engineering Council
X-ORIGINAL-URL:https://svec.org
X-WR-CALDESC:Events for Silicon Valley Engineering Council
REFRESH-INTERVAL;VALUE=DURATION:PT1H
X-Robots-Tag:noindex
X-PUBLISHED-TTL:PT1H
BEGIN:VTIMEZONE
TZID:America/Los_Angeles
BEGIN:DAYLIGHT
TZOFFSETFROM:-0800
TZOFFSETTO:-0700
TZNAME:PDT
DTSTART:20250309T100000
END:DAYLIGHT
BEGIN:STANDARD
TZOFFSETFROM:-0700
TZOFFSETTO:-0800
TZNAME:PST
DTSTART:20251102T090000
END:STANDARD
BEGIN:DAYLIGHT
TZOFFSETFROM:-0800
TZOFFSETTO:-0700
TZNAME:PDT
DTSTART:20260308T100000
END:DAYLIGHT
BEGIN:STANDARD
TZOFFSETFROM:-0700
TZOFFSETTO:-0800
TZNAME:PST
DTSTART:20261101T090000
END:STANDARD
BEGIN:DAYLIGHT
TZOFFSETFROM:-0800
TZOFFSETTO:-0700
TZNAME:PDT
DTSTART:20270314T100000
END:DAYLIGHT
BEGIN:STANDARD
TZOFFSETFROM:-0700
TZOFFSETTO:-0800
TZNAME:PST
DTSTART:20271107T090000
END:STANDARD
END:VTIMEZONE
BEGIN:VEVENT
DTSTART;TZID=America/Los_Angeles:20260219T080000
DTEND;TZID=America/Los_Angeles:20260220T170000
DTSTAMP:20260420T062944
CREATED:20251114T141839Z
LAST-MODIFIED:20251114T141839Z
UID:77391-1771488000-1771606800@svec.org
SUMMARY:Ninth Annual Symposium on Heterogeneous Integration Roadmap and Annual Meeting
DESCRIPTION:Vision for Heterogeneous Integration from Global Perspectives\, 2 days\, keynote talks\, working groups …\n1: Registration is $125 ($100 for IEEE members). PayPal is the credit card payments processor; please do not use your Paypal account during the payment process here.\nThis fee is only to cover the food and beverage service costs at the event.\n2: Confirmation of your registration is immediately sent.\nplease check spam for email from:\nnoreply_vtools@ieee.org\n3: STUDENTS: Current or recent graduate students please contact academic liaison Luu Nguyen luun296@gmail.com or Hualiang Shi hualiang.shi@ieee.org with research interest and using institution domain email for registration information.\n4: Please park along the sides of the building\nSpeaker(s): \, \, \,\nAgenda:\nPLEASE check back for agenda and speaker bios\nDay 1 – Thursday February 19\, 2026\n9:30 am – 9:10 am Welcome and Agenda Review\n4:35 Friday program preview\nDay 2 – Friday February 20\, 2026\n9:00 am – 9:10 am Welcome and Agenda Review\n10:20 am – 10:30 am Break\n11:40 am – 12:40 am Lunch\n12:40 pm – 2:30 pm TWG Collaboration Meeting Team 3\n2:30 pm – 2:40 pm Break\n2:40 pm – 4:45 pm TWG Collaboration Meeting Team4\n4:45 pm – 5:15 pm Conference Wrap up\n===\nHIR 2025 FOR REFERENCE ONLY\nDay 1 – Wednesday February 19\, 2025\nForum on AI & Energy Efficiency and Advanced Packaging Metrology\n10:30 am – 10:40 am break\n10:40 am – 12:10 pm\n12:10 pm – 1:10 pm Lunch\n1:10 pm – 1:30 pm Welcome & Agenda Review\n4:35 Thursday program preview\nDay 2 – Thursday February 20\, 2025\n9:00 am – 9:05 am Welcome\n9:05 am – 9:30 am HIR Vision\n10:40 am – 10:50 am Break\n12:00 pm – 1:00 pm Lunch\n1:00 pm – 1:10 pm Contribution Recognition – Plaque Presentation\n1:10 pm – 3:00 pm TWG Collaboration Meeting Team 1\n3:00 pm – 3:05 pm Break\n3:05 pm – 5:00 pm TWG Collaboration Meeting Team 2\n5:00 pm – 6:00 pm Networking/ Wine Tasting\nDay 3 – Friday February 21\, 2025\n9:00 am – 9:10 am Welcome and Agenda Review\, EPS SCV Chapter\n9:10 am – 9:45 am\n9:45 am – 10:20 am\n10:20 am – 10:30 am Coffee Break\n10:30 am – 11:05 am\n11:05 am – 11:40 am\n11:40 am – 12:40 am Lunch\n12:40 pm – 2:30 pm TWG Collaboration Meeting Team 3\n2:30 pm – 2:40 pm Break\n2:40 pm – 4:30 pm TWG Collaboration Meeting Team4\n4:30 pm – 4:45 pm Conference Wrap up\nPLATINUM SPONSOR\nSILVER SPONSOR\nBRONZE SPONSOR\nSEMI INTERNATIONAL HEADQUARTERS\, 673 S MILPITAS BLVD\, MILPITAS\, California\, United States\, 95035
URL:https://svec.org/event/ninth-annual-symposium-on-heterogeneous-integration-roadmap-and-annual-meeting/
LOCATION:SEMI INTERNATIONAL HEADQUARTERS\, 673 S MILPITAS BLVD\, MILPITAS\, California\, United States\, 95035
END:VEVENT
BEGIN:VEVENT
DTSTART;TZID=America/Los_Angeles:20260219T113000
DTEND;TZID=America/Los_Angeles:20260219T131500
DTSTAMP:20260420T062944
CREATED:20260114T174820Z
LAST-MODIFIED:20260114T174820Z
UID:77616-1771500600-1771506900@svec.org
SUMMARY:X-ray Microscopy of Magnetic Nanostructures
DESCRIPTION:X-ray Microscopy of Magnetic Nanostructures\nAbstract:\nMagnetic nanostructures play a crucial role on modern data storage and processing technology.\nUsing soft x-ray microscopy and spectroscopy at a National User Facility like e.g. the Advanced Light Source we are able to gain insight into the relevant processes in magnetic nanostructures and complex magnetic interfaces with picosecond time resolution and nanometer spatial resolution.\n[]\nSpeaker:\nDr. Hendrik Ohldag\nStaff Scientist\nSpectromicroscopy\, Photon Science Operations\nThe Advanced Light Source\nLawrence Berkeley National Laboratory\nIEEE Magnetics Society\, IEEE Fellow\nHendrik Ohldag received the Ph.D. in experimental physics from the Universität Düsseldorf\, Germany\, in 2002.\nHe joined the Stanford Synchrotron Radiation Light Source (SSRL) in 1999 as a research assistant as part of his Ph.D. research. After a postdoctoral fellowship at SSRL he became a permanent member of the research staff in 2005.\nBetween 1999 and 2002 he was a visiting researcher at the Advanced Light Source (ALS) at Berkeley National Laboratory. Since 2014 he is a visiting researcher at New York University.\nDr. Ohldag was awarded the David. A Shirley Award at the ALS in 2006 for “outstanding contribution in using photoemission electron microscopy for the study of magnetic materials.”\nHe is a member of the IEEE Magnetics Society and the chair of the Magnetic Interfaces and Nanoscale Device Division of the American Vacuum Society. He has authored or co-authored over 50 peer-reviewed papers and book chapters which have been cited over 2500 times. He has participated in the organization of 25 international conferences and workshops.\nAGENDA:\nThursday February 19\, 2026\n11:30 AM: Networking\, Pizza & Drinks\nNoon — 1 pm: Seminar\nPlease register on Eventbrite before 9:30 AM on Thursday February 19\, 2026\n$4 IEEE members $6 non IEEE members\n(discounts for unemployed and students )\nSee examplesAdd\nBldg: ==> Use corner entrance: Kifer Road / San Lucar Court ==> Do not enter at main entrance on Kifer Road\, EAG Labs\, 810 Kifer Road\, Sunnyvale\, California\, California\, United States\, 95051
URL:https://svec.org/event/x-ray-microscopy-of-magnetic-nanostructures/
LOCATION:Bldg: ==> Use corner entrance: Kifer Road / San Lucar Court ==> Do not enter at main entrance on Kifer Road\, EAG Labs\, 810 Kifer Road\, Sunnyvale\, California\, California\, United States\, 95051
END:VEVENT
BEGIN:VEVENT
DTSTART;TZID=America/Los_Angeles:20260219T140000
DTEND;TZID=America/Los_Angeles:20260219T143000
DTSTAMP:20260420T062944
CREATED:20260213T170317Z
LAST-MODIFIED:20260213T170317Z
UID:77753-1771509600-1771511400@svec.org
SUMMARY:Meet a Past IEEE President
DESCRIPTION:Heading to the (https://chipletsummit.com/) next week? We’d love to see you there!\nThe IEEE SCV Section will be at Booth 321 from Feb 17–19. We are especially excited to host a Fireside Chat in the Chiplet Summit Theater on February 19\, 2:00 pm featuring (https://www.linkedin.com/in/thomas-coughlin-41a65/)\, 2024 IEEE President\, in conversation with our Section Chair\, (https://www.linkedin.com/in/averylu/). Come say hello\, share your thoughts\, and "Meet a Past IEEE President!"\nSanta Clara Convention Center\, 5001 Great America Pkwy\, Santa Clara\, CA 95054-1119\, SAnta Clara \, California\, United States\, 95054-1119
URL:https://svec.org/event/meet-a-past-ieee-president/
LOCATION:Santa Clara Convention Center\, 5001 Great America Pkwy\, Santa Clara\, CA 95054-1119\, SAnta Clara \, California\, United States\, 95054-1119
END:VEVENT
BEGIN:VEVENT
DTSTART;TZID=America/Los_Angeles:20260219T173000
DTEND;TZID=America/Los_Angeles:20260219T203000
DTSTAMP:20260420T062944
CREATED:20251223T161821Z
LAST-MODIFIED:20251223T161821Z
UID:77539-1771522200-1771533000@svec.org
SUMMARY:Looking Ahead to the 2026 NEC in California
DESCRIPTION:Although the 2023 National Electrical Code (NEC) only recently became effective in California on January 1\, 2026\, the 2026 NEC was already published in September 2025. Highlights of the 2026 NEC will be covered including new requirements for arc-flash labeling\, load calculations\, 10-ampere branch circuits\, engineering for marinas and EVSE changes\, as well as industry trends that are driving NEC changes.\nSpeaker(s): Mike Stone\,\nAgenda:\nNo-host social at 5:30pm\nPresentation at 6:00pm\nDinner at 7:00pm\nPresentation continues at 7:45pm\nAdjourn by 8:30pm\nZio Fraedo's\, 611 Gregory Lane\, Pleasant Hill\, California\, United States\, 94523
URL:https://svec.org/event/looking-ahead-to-the-2026-nec-in-california/
LOCATION:Zio Fraedo's\, 611 Gregory Lane\, Pleasant Hill\, California\, United States\, 94523
END:VEVENT
BEGIN:VEVENT
DTSTART;TZID=America/Los_Angeles:20260219T180000
DTEND;TZID=America/Los_Angeles:20260219T190000
DTSTAMP:20260420T062944
CREATED:20260219T171807Z
LAST-MODIFIED:20260219T171807Z
UID:77783-1771524000-1771527600@svec.org
SUMMARY:SCV WIE Feb 2026 ExCom Meeting
DESCRIPTION:SCV WIE Feb 2026 ExCom\nAgenda:\n– New member introductions\n– Past Events\n– Upcoming Events\n– Other agenda items\nVirtual: https://events.vtools.ieee.org/m/540508
URL:https://svec.org/event/scv-wie-feb-2026-excom-meeting/
LOCATION:Virtual: https://events.vtools.ieee.org/m/540508
END:VEVENT
END:VCALENDAR