BEGIN:VCALENDAR
VERSION:2.0
PRODID:-//Silicon Valley Engineering Council - ECPv6.15.20//NONSGML v1.0//EN
CALSCALE:GREGORIAN
METHOD:PUBLISH
X-WR-CALNAME:Silicon Valley Engineering Council
X-ORIGINAL-URL:https://svec.org
X-WR-CALDESC:Events for Silicon Valley Engineering Council
REFRESH-INTERVAL;VALUE=DURATION:PT1H
X-Robots-Tag:noindex
X-PUBLISHED-TTL:PT1H
BEGIN:VTIMEZONE
TZID:America/Los_Angeles
BEGIN:DAYLIGHT
TZOFFSETFROM:-0800
TZOFFSETTO:-0700
TZNAME:PDT
DTSTART:20250309T100000
END:DAYLIGHT
BEGIN:STANDARD
TZOFFSETFROM:-0700
TZOFFSETTO:-0800
TZNAME:PST
DTSTART:20251102T090000
END:STANDARD
BEGIN:DAYLIGHT
TZOFFSETFROM:-0800
TZOFFSETTO:-0700
TZNAME:PDT
DTSTART:20260308T100000
END:DAYLIGHT
BEGIN:STANDARD
TZOFFSETFROM:-0700
TZOFFSETTO:-0800
TZNAME:PST
DTSTART:20261101T090000
END:STANDARD
BEGIN:DAYLIGHT
TZOFFSETFROM:-0800
TZOFFSETTO:-0700
TZNAME:PDT
DTSTART:20270314T100000
END:DAYLIGHT
BEGIN:STANDARD
TZOFFSETFROM:-0700
TZOFFSETTO:-0800
TZNAME:PST
DTSTART:20271107T090000
END:STANDARD
END:VTIMEZONE
BEGIN:VTIMEZONE
TZID:America/New_York
BEGIN:DAYLIGHT
TZOFFSETFROM:-0500
TZOFFSETTO:-0400
TZNAME:EDT
DTSTART:20250309T070000
END:DAYLIGHT
BEGIN:STANDARD
TZOFFSETFROM:-0400
TZOFFSETTO:-0500
TZNAME:EST
DTSTART:20251102T060000
END:STANDARD
BEGIN:DAYLIGHT
TZOFFSETFROM:-0500
TZOFFSETTO:-0400
TZNAME:EDT
DTSTART:20260308T070000
END:DAYLIGHT
BEGIN:STANDARD
TZOFFSETFROM:-0400
TZOFFSETTO:-0500
TZNAME:EST
DTSTART:20261101T060000
END:STANDARD
BEGIN:DAYLIGHT
TZOFFSETFROM:-0500
TZOFFSETTO:-0400
TZNAME:EDT
DTSTART:20270314T070000
END:DAYLIGHT
BEGIN:STANDARD
TZOFFSETFROM:-0400
TZOFFSETTO:-0500
TZNAME:EST
DTSTART:20271107T060000
END:STANDARD
END:VTIMEZONE
BEGIN:VEVENT
DTSTART;TZID=America/Los_Angeles:20260226T120000
DTEND;TZID=America/Los_Angeles:20260226T130000
DTSTAMP:20260420T045903
CREATED:20260210T094812Z
LAST-MODIFIED:20260210T094812Z
UID:77718-1772107200-1772110800@svec.org
SUMMARY:Next-Gen Healing: Designed by Algorithms.
DESCRIPTION:Advances in intelligent computing are redefining how we discover therapeutics and engineer regenerative tissues. This talk presents two complementary\, algorithm-driven approaches aimed at transforming treatments for neurological and skeletal disorders. First\, we introduce a computational peptidomics pipeline that mines genomic data to identify precursor sequences encoding neuroactive peptides\, which are key modulators of signal transmission that bind heptahelical receptors. Traditional peptide discovery is slow and serendipitous; our algorithms predict peptide maturation pathways\, including post-translational modifications\, and pair these predictions with a high-sensitivity assay capable of detecting receptor-generated second messengers such as InsPs and cAMP. This integrated strategy has yielded promising peptide-based drug candidates for Parkinson’s disease and Osteoporosis\, now advancing through animal testing. Parallel to this\, we present a bioengineering framework for creating biomimetic\, biocompatible bone scaffolds. Using uCT images of osteoporotic bone\, we design and 3D-print trabecular structures optimized for both mechanical strength and osteoconductivity\, addressing limitations of current synthetic scaffolds. These engineered matrices\, enhanced by the osteogenic Calcitonin Receptor Fragment Peptide\, support robust osteoblast growth and functional bone formation. Together\, these innovations illustrate how algorithmic design and intelligent technologies can accelerate next-generation healing\, from molecular therapeutics to regenerative tissues.\nCo-sponsored by: Vishnu S. Pendyala\, SJSU\nSpeaker(s): Dr. Vishnu S. Pendyala\, Prof. Srinivas Pentyala\nVirtual: https://events.vtools.ieee.org/m/538191
URL:https://svec.org/event/next-gen-healing-designed-by-algorithms/
LOCATION:Virtual: https://events.vtools.ieee.org/m/538191
END:VEVENT
BEGIN:VEVENT
DTSTART;TZID=America/New_York:20260226T120000
DTEND;TZID=America/New_York:20260226T130000
DTSTAMP:20260420T045903
CREATED:20260223T171809Z
LAST-MODIFIED:20260223T171809Z
UID:77797-1772107200-1772110800@svec.org
SUMMARY:AI is accelerating the shift to advanced packaging with PLP and glass cores
DESCRIPTION:The semiconductor sector continues to expand rapidly\, supported by growing needs in AI\, automotive electronics\, and consumer devices. As the limits of traditional scaling become increasingly evident with both physically and economically\, advanced packaging is taking center stage as a critical driver of higher performance\, tighter integration\, and further miniaturization. In this context\, next-generation packaging platforms such as panel-level packaging (PLP) and glass core substrates are emerging as key technologies shaping the industry's future direction.\nPLP is gaining industry interest for its potential to reduce manufacturing costs and support ultra-large form-factor package. Nevertheless\, its adoption introduces several materials and process challenges\, including warpage management\, thermal robustness\, and process compatibility. To overcome the warpage issue\, alternative material like glass core substrate is being explored for its exceptional dimensional stability and favourable electrical characteristics. Despite core cores advantages\, the use of glass raises practical concerns in handling\, via creation\, and integration within existing assembly infrastructures.\nThis presentation will delve into these evolving technology pathways\, examining market motivations\, supply-chain considerations\, and the broader ecosystem shifts surrounding them. It will outline both the opportunities these solutions present and the technical barriers that must be overcome as advanced packaging moves into its next phase of development.\nCo-sponsored by: Benson Chan\nSpeaker(s): Srihanth Rangarajan\nAgenda:\nSee LOCATION tab for WebEx info\nVirtual: https://events.vtools.ieee.org/m/541765
URL:https://svec.org/event/ai-is-accelerating-the-shift-to-advanced-packaging-with-plp-and-glass-cores/
LOCATION:Virtual: https://events.vtools.ieee.org/m/541765
END:VEVENT
BEGIN:VEVENT
DTSTART;TZID=America/Los_Angeles:20260226T184500
DTEND;TZID=America/Los_Angeles:20260226T200000
DTSTAMP:20260420T045903
CREATED:20260206T094808Z
LAST-MODIFIED:20260206T094808Z
UID:77697-1772131500-1772136000@svec.org
SUMMARY:Critical Aerodynamics and Flight Dynamics Challenges of Mars Rotorcraft
DESCRIPTION:Operating rotorcraft in the thin Martian atmosphere presents unique aerodynamic and flight dynamics challenges—first addressed during NASA’s Ingenuity Mars Helicopter mission in 2021. This seminar reviews these challenges for both current and future Mars rotorcraft. Topics include the characteristics of the Martian aerodynamic regime\, Earth-based testing approaches\, and Ingenuity’s flight dynamics validation on Mars.\nFuture rotorcraft concepts will be significantly larger and more complex than Ingenuity’s coaxial design. Multi-rotor configurations introduce additional modeling difficulties\, particularly in accurately capturing rotor wake interactions without resorting to computationally expensive blade-resolved CFD. To address this\, the seminar will also discuss the application of the Viscous Vortex Particle Method (VVPM) as a mid-fidelity tool for simulating rotor wakes in Mars rotorcraft.\nSpeaker(s): Tove Agren\, Tove\nVirtual: https://events.vtools.ieee.org/m/536989
URL:https://svec.org/event/critical-aerodynamics-and-flight-dynamics-challenges-of-mars-rotorcraft/
LOCATION:Virtual: https://events.vtools.ieee.org/m/536989
END:VEVENT
END:VCALENDAR