BEGIN:VCALENDAR
VERSION:2.0
PRODID:-//Silicon Valley Engineering Council - ECPv6.15.20//NONSGML v1.0//EN
CALSCALE:GREGORIAN
METHOD:PUBLISH
X-ORIGINAL-URL:https://svec.org
X-WR-CALDESC:Events for Silicon Valley Engineering Council
REFRESH-INTERVAL;VALUE=DURATION:PT1H
X-Robots-Tag:noindex
X-PUBLISHED-TTL:PT1H
BEGIN:VTIMEZONE
TZID:America/Los_Angeles
BEGIN:DAYLIGHT
TZOFFSETFROM:-0800
TZOFFSETTO:-0700
TZNAME:PDT
DTSTART:20250309T100000
END:DAYLIGHT
BEGIN:STANDARD
TZOFFSETFROM:-0700
TZOFFSETTO:-0800
TZNAME:PST
DTSTART:20251102T090000
END:STANDARD
BEGIN:DAYLIGHT
TZOFFSETFROM:-0800
TZOFFSETTO:-0700
TZNAME:PDT
DTSTART:20260308T100000
END:DAYLIGHT
BEGIN:STANDARD
TZOFFSETFROM:-0700
TZOFFSETTO:-0800
TZNAME:PST
DTSTART:20261101T090000
END:STANDARD
BEGIN:DAYLIGHT
TZOFFSETFROM:-0800
TZOFFSETTO:-0700
TZNAME:PDT
DTSTART:20270314T100000
END:DAYLIGHT
BEGIN:STANDARD
TZOFFSETFROM:-0700
TZOFFSETTO:-0800
TZNAME:PST
DTSTART:20271107T090000
END:STANDARD
END:VTIMEZONE
BEGIN:VEVENT
DTSTART;TZID=America/Los_Angeles:20260305T173000
DTEND;TZID=America/Los_Angeles:20260305T200000
DTSTAMP:20260420T050301
CREATED:20260203T181824Z
LAST-MODIFIED:20260203T181824Z
UID:77688-1772731800-1772740800@svec.org
SUMMARY:2026 CES Download - Tom Coughlin and Avery Lu\, March 5th\, 2026
DESCRIPTION:This is the annual IEEE SFBA Consumer Technology Society (CTSoc) event providing a summary of the latest and unique tech innovations from the 2025 Consumer Electronics Show (CES) in Las Vegas. This event has proven to be very popular as many people working in related industries do not get to attend CES. CES's focus has expanded beyond consumer electronic devices to many (https://enotice.mmsend.com/link.cfm?r=cFleWUFWIsM33LkMon_yTw~~&pe=XwNKhr_rkpKFUXqht9NlzJ7kOw6VNNWXNwS2oFqZ7CECeGvkGC2UUG7Cam3zBie0rIlacembRyUD8qCyLvR6fA~~&t=CTGW-TcFkgpRC22cZfnx6Q~~) including wearables\, smart homes\, robotics\, drones\, medical and healthcare devices\, etc.\n2024 IEEE President\, Tom Coughlin\, and 2025 SCV Chair\, Avery Lu\, both are also past chairs of SFBA CTSoc will share highlights of the unique tech solutions at CES that may not have been covered by the mainstream media. This will be an in-person event\, and the room has limited capacity. Register early\, do not miss this event to get a glance into the future of consumer technologies. Previous CES Download and other meeting slides and recordings are available for viewing at https://site.ieee.org/scv-ces/recent-events/.\nThis is a FREE event for IEEE members who provide their IEEE membership # when registering\, and $10 for non-IEEE members (no refunds).\nSpeakers:\nTom Coughlin: President\, Coughlin Associates\n2024 IEEE President & IEEE Fellow\, Tom is a world-renowned digital storage expert and industry analyst. Having served as the global leader of IEEE\, he brings unparalleled insight into the hardware and infrastructure driving the latest consumer trends.\nAvery Lu: Partner & Head of Business Development\, Aventurine Capital Group\n2025 Chair of the IEEE Santa Clara Valley Section\nAvery is a seasoned venture capitalist and deep-tech executive. His expertise in semiconductors and AI allows him to identify the startups and technologies with the highest potential for commercial success and market disruption.\nRegistration Details\nThis is an in-person event with limited room capacity. We strongly recommend registering early to secure your spot.\nIEEE Members: FREE (Must provide IEEE membership # during registration)\nNon-Members: $10 (No refunds)\nDon't miss this opportunity to get a first-hand glance into the future of consumer technology from two of Silicon Valley's most respected voices.\nLocation\nBuilding: Plug and Play Tech Center\, Sunnyvale\, San Francisco Room\n440 N. Wolfe Road\, Suite 71\, Sunnyvale\, California\, United States 94085\nAgenda:\n5:30 – 6:00 pm: Check-in\, networking\, food and drinks\n6:00 – 7:30 pm: Presentations by Tom Coughlin and Avery Lu\n7:30 – 8:00 pm: Q&A and Networking\n440 N. Wolfe Road\, Suite 71\,  \, Sunnyvale\,\, California\, United States\, 94085
URL:https://svec.org/event/2026-ces-download-tom-coughlin-and-avery-lu-march-5th-2026/
LOCATION:440 N. Wolfe Road\, Suite 71\,  \, Sunnyvale\,\, California\, United States\, 94085
END:VEVENT
BEGIN:VEVENT
DTSTART;TZID=America/Los_Angeles:20260305T173000
DTEND;TZID=America/Los_Angeles:20260305T200000
DTSTAMP:20260420T050301
CREATED:20260301T173307Z
LAST-MODIFIED:20260301T173307Z
UID:77822-1772731800-1772740800@svec.org
SUMMARY:TEMS Silicon Valley Chapter is co-hosting the 2026 CES Download Event
DESCRIPTION:(https://r6.ieee.org/scv-tems/) is co-hosting the 2026 CES Download Event.\nJoin us on March 5\, 2026\, for a Hybrid presentation.\nCome for a glimpse into the latest and most innovative technologies unveiled at the recent Consumer Electronics Show in Las Vegas.\nThis is the annual IEEE (https://site.ieee.org/scv-ces/) event providing a comprehensive summary of the latest and unique tech innovations from the January 2026 Consumer Electronics Show (CES). This annual CES Download event has proven to be very popular\, as many people working in related industries do not get to attend CES in Las Vegas.\nPresenters: Tom Coughlin and Avery Lu\nFor details\, online attendance info\, and registration: https://events.vtools.ieee.org/m/536441\nPlug and Play Tech Center\, 440 N Wolfe Road\, Sunnyvale\, California\, United States\, 94085\, Virtual: https://events.vtools.ieee.org/m/543570
URL:https://svec.org/event/tems-silicon-valley-chapter-is-co-hosting-the-2026-ces-download-event/
LOCATION:Plug and Play Tech Center\, 440 N Wolfe Road\, Sunnyvale\, California\, United States\, 94085\, Virtual: https://events.vtools.ieee.org/m/543570
END:VEVENT
END:VCALENDAR