BEGIN:VCALENDAR
VERSION:2.0
PRODID:-//Silicon Valley Engineering Council - ECPv6.15.20//NONSGML v1.0//EN
CALSCALE:GREGORIAN
METHOD:PUBLISH
X-ORIGINAL-URL:https://svec.org
X-WR-CALDESC:Events for Silicon Valley Engineering Council
REFRESH-INTERVAL;VALUE=DURATION:PT1H
X-Robots-Tag:noindex
X-PUBLISHED-TTL:PT1H
BEGIN:VTIMEZONE
TZID:-07:00
END:VTIMEZONE
BEGIN:VEVENT
DTSTART;TZID=-07:00:20260313T090000
DTEND;TZID=-07:00:20260313T170000
DTSTAMP:20260420T050340
CREATED:20260210T155048Z
LAST-MODIFIED:20260210T155048Z
UID:77729-1773392400-1773421200@svec.org
SUMMARY:AI Day SF 2026
DESCRIPTION:**AI Day SF 2026** \n**Required registration is here -** https://luma.com/i3hbkq5v \n**AI Day SF** provides **training** and **thought leadership** around AI in one day! From advice to agents\, come learn how these AI infused systems work and how society and technology are evolving together with targeted deep dives by a variety of experts. \n**This is an in-person event**. Bad news\, its only 40 spots\, please do not register if you cannot attend all day. Good news\, it will be recorded and shared later if you can’t make it. (no live stream)
URL:https://svec.org/event/ai-day-sf-2026/
ATTACH;FMTTYPE=image/jpeg:https://svec.org/wp-content/uploads/2026/02/1024x576-z33t54.jpg
END:VEVENT
BEGIN:VEVENT
DTSTART;TZID=-07:00:20260313T090000
DTEND;TZID=-07:00:20260313T170000
DTSTAMP:20260420T050340
CREATED:20260210T155048Z
LAST-MODIFIED:20260210T155048Z
UID:77730-1773392400-1773421200@svec.org
SUMMARY:AI Day SF 2026
DESCRIPTION:**AI Day SF 2026** \n**Required registration is here -** https://luma.com/i3hbkq5v \n**AI Day SF** provides **training** and **thought leadership** around AI in one day! From advice to agents\, come learn how these AI infused systems work and how society and technology are evolving together with targeted deep dives by a variety of experts. \n**This is an in-person event**. Bad news\, its only 40 spots\, please do not register if you cannot attend all day. Good news\, it will be recorded and shared later if you can’t make it. (no live stream)
URL:https://svec.org/event/ai-day-sf-2026-2/
ATTACH;FMTTYPE=image/jpeg:https://svec.org/wp-content/uploads/2026/02/1024x576-LQKlrE.jpg
END:VEVENT
END:VCALENDAR