BEGIN:VCALENDAR
VERSION:2.0
PRODID:-//Silicon Valley Engineering Council - ECPv6.15.20//NONSGML v1.0//EN
CALSCALE:GREGORIAN
METHOD:PUBLISH
X-WR-CALNAME:Silicon Valley Engineering Council
X-ORIGINAL-URL:https://svec.org
X-WR-CALDESC:Events for Silicon Valley Engineering Council
REFRESH-INTERVAL;VALUE=DURATION:PT1H
X-Robots-Tag:noindex
X-PUBLISHED-TTL:PT1H
BEGIN:VTIMEZONE
TZID:America/Chicago
BEGIN:DAYLIGHT
TZOFFSETFROM:-0600
TZOFFSETTO:-0500
TZNAME:CDT
DTSTART:20250309T080000
END:DAYLIGHT
BEGIN:STANDARD
TZOFFSETFROM:-0500
TZOFFSETTO:-0600
TZNAME:CST
DTSTART:20251102T070000
END:STANDARD
BEGIN:DAYLIGHT
TZOFFSETFROM:-0600
TZOFFSETTO:-0500
TZNAME:CDT
DTSTART:20260308T080000
END:DAYLIGHT
BEGIN:STANDARD
TZOFFSETFROM:-0500
TZOFFSETTO:-0600
TZNAME:CST
DTSTART:20261101T070000
END:STANDARD
BEGIN:DAYLIGHT
TZOFFSETFROM:-0600
TZOFFSETTO:-0500
TZNAME:CDT
DTSTART:20270314T080000
END:DAYLIGHT
BEGIN:STANDARD
TZOFFSETFROM:-0500
TZOFFSETTO:-0600
TZNAME:CST
DTSTART:20271107T070000
END:STANDARD
END:VTIMEZONE
BEGIN:VEVENT
DTSTART;TZID=America/Chicago:20260316T120000
DTEND;TZID=America/Chicago:20260316T130000
DTSTAMP:20260420T045953
CREATED:20260312T183306Z
LAST-MODIFIED:20260312T183306Z
UID:77862-1773662400-1773666000@svec.org
SUMMARY:IEEE - Eaton Corporation Info Session
DESCRIPTION:[]\nAre you interested in power systems? Come join IEEE in collaboration with Eaton Corporation for an info session. Our speaker\, Philip Delosreyes\, a CSUS Alumni and Licensed Professional Engineer\, will provide an overview on Short Circuit Analysis and its application with electrical equipment.\n📅 03/16\n⏰ 12:00 – 1:00 PM\n📍 SQU 456\n🍕Food Provided!\nWe hope to see you there!\nSpeaker(s): Philip Delosreyes\,\nRoom: 456\, Bldg: Sequoia Hall\, 6012 Jed Smith Dr\, Sacramento\, CA 95819\, Sacramento\, California\, United States\, Virtual: https://events.vtools.ieee.org/m/546592
URL:https://svec.org/event/ieee-eaton-corporation-info-session/
LOCATION:Room: 456\, Bldg: Sequoia Hall\, 6012 Jed Smith Dr\, Sacramento\, CA 95819\, Sacramento\, California\, United States\, Virtual: https://events.vtools.ieee.org/m/546592
END:VEVENT
END:VCALENDAR