BEGIN:VCALENDAR
VERSION:2.0
PRODID:-//Silicon Valley Engineering Council - ECPv6.15.20//NONSGML v1.0//EN
CALSCALE:GREGORIAN
METHOD:PUBLISH
X-WR-CALNAME:Silicon Valley Engineering Council
X-ORIGINAL-URL:https://svec.org
X-WR-CALDESC:Events for Silicon Valley Engineering Council
REFRESH-INTERVAL;VALUE=DURATION:PT1H
X-Robots-Tag:noindex
X-PUBLISHED-TTL:PT1H
BEGIN:VTIMEZONE
TZID:America/Los_Angeles
BEGIN:DAYLIGHT
TZOFFSETFROM:-0800
TZOFFSETTO:-0700
TZNAME:PDT
DTSTART:20250309T100000
END:DAYLIGHT
BEGIN:STANDARD
TZOFFSETFROM:-0700
TZOFFSETTO:-0800
TZNAME:PST
DTSTART:20251102T090000
END:STANDARD
BEGIN:DAYLIGHT
TZOFFSETFROM:-0800
TZOFFSETTO:-0700
TZNAME:PDT
DTSTART:20260308T100000
END:DAYLIGHT
BEGIN:STANDARD
TZOFFSETFROM:-0700
TZOFFSETTO:-0800
TZNAME:PST
DTSTART:20261101T090000
END:STANDARD
BEGIN:DAYLIGHT
TZOFFSETFROM:-0800
TZOFFSETTO:-0700
TZNAME:PDT
DTSTART:20270314T100000
END:DAYLIGHT
BEGIN:STANDARD
TZOFFSETFROM:-0700
TZOFFSETTO:-0800
TZNAME:PST
DTSTART:20271107T090000
END:STANDARD
END:VTIMEZONE
BEGIN:VEVENT
DTSTART;TZID=America/Los_Angeles:20260328T093000
DTEND;TZID=America/Los_Angeles:20260328T110000
DTSTAMP:20260422T011608
CREATED:20260306T181852Z
LAST-MODIFIED:20260306T181852Z
UID:77840-1774690200-1774695600@svec.org
SUMMARY:SCV-EPS AdCom Meeting (March 2026)
DESCRIPTION:Monthly AdCom meeting:\n1. Welcome – Hualiang\n2. Symposium status update – Annette/Paul/Hualiang\n3. Education outreach status – Masha/Azmat/Hualiang\n4. Chapter Storage – Hualiang XXXX NOT\n5. Monthly talk preparation – Chandan/Luu\n6. Chapter website update – XXXX NOT Venkatesh/Claire/Paul\n7. Senior member advancement – Dwayne\nXxxx NOT\n8: Election 2026\n9: Open discussion – All\nAgenda:\nMonthly AdCom meeting:\n1. Welcome – Hualiang\n2. Symposium status update – Annette/Paul/Hualiang\n3. Education outreach status – Masha/Azmat/Hualiang\n4. Chapter Storage – Hualiang XXXX NOT\n5. Monthly talk preparation – Chandan/Luu\n6. Chapter website update – XXXX NOT Venkatesh/Claire/Paul\n7. Senior member advancement – Dwayne\nXxxx NOT\n8: Election 2026\n9: Open discussion – All\nVirtual: https://events.vtools.ieee.org/m/544928
URL:https://svec.org/event/scv-eps-adcom-meeting-march-2026/
LOCATION:Virtual: https://events.vtools.ieee.org/m/544928
END:VEVENT
BEGIN:VEVENT
DTSTART;TZID=America/Los_Angeles:20260328T120000
DTEND;TZID=America/Los_Angeles:20260328T160000
DTSTAMP:20260422T011608
CREATED:20260214T170308Z
LAST-MODIFIED:20260214T170308Z
UID:77757-1774699200-1774713600@svec.org
SUMMARY:Leadership Hike
DESCRIPTION:Hike at Green Belt Trail\nHayward\, California\, United States
URL:https://svec.org/event/leadership-hike/
LOCATION:Hayward\, 6000 California City Blvd\, California City\, CA\, United States
END:VEVENT
END:VCALENDAR